Workbook
Name Azua: Prov!$C$3:$C$12
Name Bahoruco: Prov!$C$13:$C$17
Name Barahona: Prov!$C$18:$C$28
Name CodigoActividad: 'Formulario PPGR2'!$H$9:$H$303
Name Dajabon: Prov!$C$29:$C$33
Name Dajabón: Prov!$C$29:$C$33
Name Distrito_Nacional: Prov!$C$2
Name Duarte: Prov!$C$34:$C$40
Name El_Seibo: Prov!$C$41:$C$42
Name Elias_Pina: Prov!$C$43:$C$48
Name Elías_Piña: Prov!$C$43:$C$48
Name Espaillat: Prov!$C$49:$C$52
Name Hato_Mayor: Prov!$C$53:$C$55
Name Hermanas_Mirabal: Prov!$C$56:$C$58
Name Independencia: Prov!$C$59:$C$64
Name jkjkjlk: [1]Catalogo!$B$187:$B$206
Name La_Altagracia: Prov!$C$65:$C$66
Name La_Romana: Prov!$C$67:$C$69
Name La_Vega: Prov!$C$70:$C$73
Name Le.1: Obj!$D$118:$D$119
Name Le.2: Obj!$D$120:$D$121
Name Le.3: Obj!$D$122:$D$123
Name Le.4: Obj!$D$124
Name ls_ComprayAlquiler: Catalogo!$G$33:$G$41
Name ls_Departamento: Catalogo!$D$36:$D$96
Name Ls_DepartamentosSRS: Catalogo!$G$169:$G$181
Name Ls_DependenciasSRS: Catalogo!$B$136:$B$141
Name ls_Direccion: Catalogo!$D$32:$D$33
Name Ls_DivisionesSRS: Catalogo!$E$144:$E$160
Name Ls_Estructura: Catalogo!$B$23:$B$28
Name Ls_GerenciasSRS: Catalogo!$E$163:$E$165
Name Ls_LinesEstategica: Obj!$B$6:$B$9
Name Ls_Medio_Verificacion: Catalogo!$B$187:$B$206
Name Ls_ObjEstrategico: Obj!$G$6:$G$21
Name Ls_Oficina: Catalogo!$D$126:$D$129
Name Ls_OficinasSRS: Catalogo!$E$178:$E$180
Name ls_Regiones: Catalogo!$B$10:$B$19
Name ls_SubDireccion: Catalogo!$D$99:$D$119
Name ls_TiposAcciones: Catalogo!$G$11:$G$14
Name ls_UnidadesSRS: Catalogo!$B$144:$B$172
Name lsAcabadosTextiles: Insumos!$C$2:$C$3
Name lsAireAcondicionado: Insumos!$C$333:$C$334
Name lsAlimentosyBebidas: Insumos!$C$4:$C$23
Name lsArticulosdePlastico: Insumos!$C$24:$C$30
Name lsElectrodomesticos: Insumos!$C$31:$C$35
Name lsEquiposComputos: Insumos!$C$132:$C$136
Name lsEquiposMedicos: Insumos!$C$44:$C$131
Name lsEquiposSeguridad: Insumos!$C$137:$C$138
Name lsEquiposTransporte: Insumos!$C$518:$C$520
Name lsEventosGenerales: Insumos!$C$139:$C$141
Name lsFuentesFinanciamiento: LSIns!$F$5:$F$8
Name lsGasoil: Insumos!$C$142:$C$149
Name lsHerramientasMenores: Insumos!$C$150:$C$179
Name lsImpresionyEncuadernacion: Insumos!$C$180
Name lsInsumos: LSIns!$B$5:$B$45
Name lsInsumosEquipos: LSIns!$F$16:$F$31
Name lsLlantasyNeumaticos: Insumos!$C$181:$C$188
Name lsMantenimiento: Insumos!$C$189:$C$202
Name lsMantenimientoyReparacion: Catalogo!$G$27:$G$30
Name lsMaterialesdeLimpieza: Insumos!$C$203:$C$217

Sheet Resumen
I1: Siglas Dependencias DC-SNS
A2: Servicio Nacional de Salud | I2: Dirección Ejecutiva (DE)
A3: Dirección de Planificación y Desarrollo | I3: Atención a Usuarios (DAU)
I4: Laboratorio e Imágenes (DLI)
A5: Cantidad acciones/actividades/trimestre | I5: Cooperación Internacional (COP)
A6: Primer Trimestre | B6: =+'Formulario PPGR2'!$J$304+'Formulario PPGR2'!$K$304+'Formulario PPGR2'!$L$304 -> 279 | I6: Calidad Institucional (DCG)
A7: Segundo Trimestre | B7: =+'Formulario PPGR2'!$M$304+'Formulario PPGR2'!$N$304+'Formulario PPGR2'!$O$304 -> 357 | I7: Administración (ADM)
A8: Tercer Trimestre | B8: =+'Formulario PPGR2'!$P$304+'Formulario PPGR2'!$Q$304+'Formulario PPGR2'!$R$304 -> 339 | I8: Dirección Centros Hospitalarios (DCH)
A9: Cuarto Trimestre | B9: =+'Formulario PPGR2'!$S$304+'Formulario PPGR2'!$T$304+'Formulario PPGR2'!$U$304 -> 333 | I9: Emergencias Médicas (DEM)
A10: Total actividades del año | B10: =SUM(B6:B9) -> 1308 | I10: Comunicaciones (DCE)
I11: Financiero (DFI)
I12: Gestión Clínica (DGC)
I13: Proyectos Institucionales (DPI)
I14: Cuidados de Enfermería (ENF)
I15: Desarrollo Institucional (DDI)
I16: Seguimiento, Evaluación y Calidad de los Servicios de Salud (GCSS)
A17: Tabla Resumen POA | B17: {=+'Formulario PPGR1'!M2:O2} -> 2024 | C17: 0 | D17: 0 | I17: Oficina Equidad Género (OEG)
A18: Área Organizacional | B18: Presupuesto | C18: Nº Productos | D18: Nº Actividades | E18: % (Productos) | F18: % (Actividades) | G18: % (Presupuesto) | I18: Recursos Humanos (DRH)
E19: =+C19/$C$37 -> #DIV/0! | F19: =+D19/$D$37 -> #DIV/0! | G19: =+B19/$B$37 -> #DIV/0! | I19: Infraestructura y Equipos (DIE)
E20: =+C20/$C$37 -> #DIV/0! | F20: =+D20/$D$37 -> #DIV/0! | G20: =+B20/$B$37 -> #DIV/0! | I20: Jurídica (DCJ)
E21: =+C21/$C$37 -> #DIV/0! | F21: =+D21/$D$37 -> #DIV/0! | G21: =+B21/$B$37 -> #DIV/0! | I21: Formulación, Monitoreo y Evaluación de PPP (FME)
E22: =+C22/$C$37 -> #DIV/0! | F22: =+D22/$D$37 -> #DIV/0! | G22: =+B22/$B$37 -> #DIV/0! | I22: Planificación (DPD)
E23: =+C23/$C$37 -> #DIV/0! | F23: =+D23/$D$37 -> #DIV/0! | G23: =+B23/$B$37 -> #DIV/0! | I23: Dirección Primer Nivel (DPN)
E24: =+C24/$C$37 -> #DIV/0! | F24: =+D24/$D$37 -> #DIV/0! | G24: =+B24/$B$37 -> #DIV/0! | I24: Asistencia a la Red (DAR)
E25: =+C25/$C$37 -> #DIV/0! | F25: =+D25/$D$37 -> #DIV/0! | G25: =+B25/$B$37 -> #DIV/0! | I25: Seguridad Física (DSF)
E26: =+C26/$C$37 -> #DIV/0! | F26: =+D26/$D$37 -> #DIV/0! | G26: =+B26/$B$37 -> #DIV/0! | I26: Sistema de Información (DGI)
E27: =+C27/$C$37 -> #DIV/0! | F27: =+D27/$D$37 -> #DIV/0! | G27: =+B27/$B$37 -> #DIV/0! | I27: Tecnología de la Información (DTI)
E28: =+C28/$C$37 -> #DIV/0! | F28: =+D28/$D$37 -> #DIV/0! | G28: =+B28/$B$37 -> #DIV/0! | I28: Calidad de los Servicios de Salud (CSS)
E29: =+C29/$C$37 -> #DIV/0! | F29: =+D29/$D$37 -> #DIV/0! | G29: =+B29/$B$37 -> #DIV/0! | I29: Materno-Infantil (MIA)
E30: =+C30/$C$37 -> #DIV/0! | F30: =+D30/$D$37 -> #DIV/0! | G30: =+B30/$B$37 -> #DIV/0! | I30: Oficina de Acceso a la Información (OAI)
... E36: =+C36/$C$37 -> #DIV/0! | F36: =+D36/$D$37 -> #DIV/0! | G36: =+B36/$B$37 -> #DIV/0! | I36: Salud Mental (DSM)
A37: Total | B37: =SUM(B19:B36) -> 0 | C37: =SUM(C19:C36) -> 0 | D37: =SUM(D19:D36) -> 0 | E37: =SUM(E19:E36) -> #DIV/0! | F37: =SUM(F19:F36) -> #DIV/0! | G37: =SUM(G19:G36) -> #DIV/0!

Sheet Formulario PPGR1
G2: Servicio Nacional de Salud | L2: Año del POA: | M2: 2024
G3: Dirección de Planificación y Desarrollo | L3: Servicio Regional de Salud: | M3: R0 - SRS Metropolitano | Q3: =VLOOKUP(M3,Catalogo!$B$10:$C$19,2,FALSE) -> Ls_DependenciasSRS
G4: Plan Operativo Anual | L4: Estructura: | M4: Dirección | Q4: =IF(Q3="Ls_Estructura",VLOOKUP(M4,Catalogo!B23:C27,2,FALSE),VLOOKUP(M4,Catalogo!$B$136:$C$140,2,FALSE)) -> #N/A
G5: Identificación de Productos/Resultados | L5: =IF(Q3="Ls_Estructura",VLOOKUP($M$4,Catalogo!$B$23:$D$28,3,FALSE),VLOOKUP($M$4,Catalogo!$B$136:$D$140,3,FALSE)) -> #N/A | M5: SNS - Dirección Central
B8: ID_Dependendencia | C8: POA | D8: SRS | E8: AREA | F8: Eje Estratégico | G8: Cod_LE | H8: Objetivo | I8: Cod_Obj | J8: Resultado esperado | K8: Productos | L8: Indicador | M8: Unidad de medida | N8: Línea Base | O8: Meta | P8: Supuestos | Q8: Dependencia responsable | R8: Columna1
B9: =IF('Formulario PPGR1'!$F9="","",CONCATENATE('Formulario PPGR1'!$C9,".",'Formulario PPGR1'!$D9,".",'Formulario PPGR1'!$E9,".",#REF!)) -> #REF! | C9: =IF('Formulario PPGR1'!$F9="","",#REF!) -> #REF! | D9: =IF('Formulario PPGR1'!$F9="","",#REF!) -> #REF! | E9: =IF('Formulario PPGR1'!$F9="","",#REF!) -> #REF! | F9: LE.1 - Calidad en la prestación de los servicios de salud | G9: =IFERROR(VLOOKUP($F9,Obj!$B$57:$C$76,2,FALSE),"") -> LE.1 | H9: Obj1.1 - Mejorar la provisión de los servicios de salud con enfoque en la promoción de la salud, prevención de la enfermedad y control de las enfermedades. | I9: =IFERROR(VLOOKUP($H9,Obj!$D$118:$E$124,2,FALSE),"") -> Obj1.1 | J9: Redes de servicios integradas y con mayor resolución para coordinar la prestación de servicios integrales de promoción de la salud, prevención de la enfermedad, diagnóstico, tratamiento, rehabilitación y cuidados paliativos; condicionada a la necesidades de salud y características de la población, con miras hacia la consecución progresiva del acceso universal a la salud y la cobertura universal de salud | K9: 1.1.1.1 Implementación del Programa Salud Bucodental (PPI 16) | L9: % incremento servicios odontológicos | M9: Porcentaje | O9: 0.25 | Q9: Odontología
B10: =IF('Formulario PPGR1'!$F10="","",CONCATENATE('Formulario PPGR1'!$C10,".",'Formulario PPGR1'!$D10,".",'Formulario PPGR1'!$E10,".",#REF!)) | C10: =IF('Formulario PPGR1'!$F10="","",#REF!) | D10: =IF('Formulario PPGR1'!$F10="","",#REF!) | E10: =IF('Formulario PPGR1'!$F10="","",#REF!) | G10: =IFERROR(VLOOKUP($F10,Obj!$B$57:$C$76,2,FALSE),"") | I10: =IFERROR(VLOOKUP($H10,Obj!$D$118:$E$124,2,FALSE),"") | K10: 1.1.1.2 Mejora del suministro y abastecimiento de medicamentos | L10: % disponibilidad de medicamentos trazadores en centros de salud | M10: Porcentaje | O10: 1 | Q10: Medicamentos e Insumos
B11: =IF('Formulario PPGR1'!$F11="","",CONCATENATE('Formulario PPGR1'!$C11,".",'Formulario PPGR1'!$D11,".",'Formulario PPGR1'!$E11,".",#REF!)) | C11: =IF('Formulario PPGR1'!$F11="","",#REF!) | D11: =IF('Formulario PPGR1'!$F11="","",#REF!) | E11: =IF('Formulario PPGR1'!$F11="","",#REF!) | L11: % disponibilidad de medicamentos trazadores programas salud colectiva | M11: Porcentaje | O11: 0.96 | Q11: Medicamentos e Insumos
B12: =IF('Formulario PPGR1'!$F12="","",CONCATENATE('Formulario PPGR1'!$C12,".",'Formulario PPGR1'!$D12,".",'Formulario PPGR1'!$E12,".",#REF!)) | C12: =IF('Formulario PPGR1'!$F12="","",#REF!) | D12: =IF('Formulario PPGR1'!$F12="","",#REF!) | E12: =IF('Formulario PPGR1'!$F12="","",#REF!) | G12: =IFERROR(VLOOKUP($F12,Obj!$B$57:$C$76,2,FALSE),"") | I12: =IFERROR(VLOOKUP($H12,Obj!$D$118:$E$124,2,FALSE),"") | K12: 1.1.1.3 Ampliación y mejora de la provisión de servicios de apoyo diagnóstico y laboratorio | L12: % incremento servicios laboratorio clínico | M12: Porcentaje | O12: 0.3 | Q12: Laboratorios Clínicos e Imágenes
B13: =IF('Formulario PPGR1'!$F13="","",CONCATENATE('Formulario PPGR1'!$C13,".",'Formulario PPGR1'!$D13,".",'Formulario PPGR1'!$E13,".",#REF!)) | C13: =IF('Formulario PPGR1'!$F13="","",#REF!) | D13: =IF('Formulario PPGR1'!$F13="","",#REF!) | E13: =IF('Formulario PPGR1'!$F13="","",#REF!) | L13: % incremento servicios imágenes | M13: Porcentaje | O13: 0.25 | Q13: Laboratorios Clínicos e Imágenes
B14: =IF('Formulario PPGR1'!$F14="","",CONCATENATE('Formulario PPGR1'!$C14,".",'Formulario PPGR1'!$D14,".",'Formulario PPGR1'!$E14,".",#REF!)) -> #REF! | C14: =IF('Formulario PPGR1'!$F14="","",#REF!) -> #REF! | D14: =IF('Formulario PPGR1'!$F14="","",#REF!) -> #REF! | E14: =IF('Formulario PPGR1'!$F14="","",#REF!) -> #REF! | F14: LE.1 - Calidad en la prestación de los servicios de salud | G14: =IFERROR(VLOOKUP($F14,Obj!$B$57:$C$76,2,FALSE),"") -> LE.1 | H14: Obj1.1 - Mejorar la provisión de los servicios de salud con enfoque en la promoción de la salud, prevención de la enfermedad y control de las enfermedades. | I14: =IFERROR(VLOOKUP($H14,Obj!$D$118:$E$124,2,FALSE),"") -> Obj1.1 | J14: Disminuida la morbi-mortalidad materna, neonatal e infantil, mediante el fortalecimiento y la integración de los servicios de salud antes de la concepción, durante el embarazo, el parto y los primeros años de vida, garantizando la calidad de la atención. | K14: 1.1.2.1 Aumento de la provisión de servicios de salud sexual y reproductiva en la Red SNS | L14: % incremento servicios planificación familiar | M14: Porcentaje | O14: 0.16 | Q14: Materno, Infantil y Adolescentes | V14: Gestión Integral de Información
B15: =IF('Formulario PPGR1'!$F15="","",CONCATENATE('Formulario PPGR1'!$C15,".",'Formulario PPGR1'!$D15,".",'Formulario PPGR1'!$E15,".",#REF!)) | C15: =IF('Formulario PPGR1'!$F15="","",#REF!) | D15: =IF('Formulario PPGR1'!$F15="","",#REF!) | E15: =IF('Formulario PPGR1'!$F15="","",#REF!) | G15: =IFERROR(VLOOKUP($F15,Obj!$B$57:$C$76,2,FALSE),"") | I15: =IFERROR(VLOOKUP($H15,Obj!$D$118:$E$124,2,FALSE),"") | K15: 1.1.2.2 Provisión de servicios de Salud Materno, Infantil y Adolescentes de Calidad | L15: % disminución mortalidad materna | M15: Porcentaje | O15: 0.25 | Q15: Materno, Infantil y Adolescentes
B16: =IF('Formulario PPGR1'!$F16="","",CONCATENATE('Formulario PPGR1'!$C16,".",'Formulario PPGR1'!$D16,".",'Formulario PPGR1'!$E16,".",#REF!)) | C16: =IF('Formulario PPGR1'!$F16="","",#REF!) | D16: =IF('Formulario PPGR1'!$F16="","",#REF!) | E16: =IF('Formulario PPGR1'!$F16="","",#REF!) | L16: % disminución mortalidad neonatal | M16: Porcentaje | O16: 0.2 | Q16: Materno, Infantil y Adolescentes
B17: =IF('Formulario PPGR1'!$F17="","",CONCATENATE('Formulario PPGR1'!$C17,".",'Formulario PPGR1'!$D17,".",'Formulario PPGR1'!$E17,".",#REF!)) | C17: =IF('Formulario PPGR1'!$F17="","",#REF!) | D17: =IF('Formulario PPGR1'!$F17="","",#REF!) | E17: =IF('Formulario PPGR1'!$F17="","",#REF!) | G17: =IFERROR(VLOOKUP($F17,Obj!$B$57:$C$76,2,FALSE),"") | I17: =IFERROR(VLOOKUP($H17,Obj!$D$118:$E$124,2,FALSE),"") | K17: 1.1.2.3 Incremento cobertura registro oportuno de nacidos vivos | L17: % cobertura registro nacidos vivos | M17: Porcentaje | O17: 0.95 | Q17: Materno, Infantil y Adolescentes | V17: Gestión y Control de la Planificación Institucional
B18: =IF('Formulario PPGR1'!$F18="","",CONCATENATE('Formulario PPGR1'!$C18,".",'Formulario PPGR1'!$D18,".",'Formulario PPGR1'!$E18,".",#REF!)) | C18: =IF('Formulario PPGR1'!$F18="","",#REF!) | D18: =IF('Formulario PPGR1'!$F18="","",#REF!) | E18: =IF('Formulario PPGR1'!$F18="","",#REF!) | G18: =IFERROR(VLOOKUP($F18,Obj!$B$57:$C$76,2,FALSE),"") | I18: =IFERROR(VLOOKUP($H18,Obj!$D$118:$E$124,2,FALSE),"") | K18: 1.1.2.4 Despliegue del Plan de Acción para disminución de los embarazos en adolescentes | L18: % embarazos en población adolescente (tendencia a la baja) | M18: Porcentaje | O18: 0.186 | Q18: Materno, Infantil y Adolescentes
B19: =IF('Formulario PPGR1'!$F19="","",CONCATENATE('Formulario PPGR1'!$C19,".",'Formulario PPGR1'!$D19,".",'Formulario PPGR1'!$E19,".",#REF!)) | C19: =IF('Formulario PPGR1'!$F19="","",#REF!) | D19: =IF('Formulario PPGR1'!$F19="","",#REF!) | E19: =IF('Formulario PPGR1'!$F19="","",#REF!) | G19: =IFERROR(VLOOKUP($F19,Obj!$B$57:$C$76,2,FALSE),"") | I19: =IFERROR(VLOOKUP($H19,Obj!$D$118:$E$124,2,FALSE),"") | K19: 1.1.2.5 Fortalecimiento de los servicios pediátricos hospitales priorizados | L19: % disminución mortalidad infantil | M19: Porcentaje | O19: 0.15 | Q19: Materno, Infantil y Adolescentes | V19: Promoción y Cultura de Innovación
B20: =IF('Formulario PPGR1'!$F20="","",CONCATENATE('Formulario PPGR1'!$C20,".",'Formulario PPGR1'!$D20,".",'Formulario PPGR1'!$E20,".",#REF!)) | C20: =IF('Formulario PPGR1'!$F20="","",#REF!) | D20: =IF('Formulario PPGR1'!$F20="","",#REF!) | E20: =IF('Formulario PPGR1'!$F20="","",#REF!) | G20: =IFERROR(VLOOKUP($F20,Obj!$B$57:$C$76,2,FALSE),"") | I20: =IFERROR(VLOOKUP($H20,Obj!$D$118:$E$124,2,FALSE),"") | K20: 1.1.2.6 Implementación Proyecto Screening Auditivo | L20: % implementación del PoR 44 | M20: Porcentaje | O20: 0.9 | Q20: Materno, Infantil y Adolescentes
B21: =IF('Formulario PPGR1'!$F21="","",CONCATENATE('Formulario PPGR1'!$C21,".",'Formulario PPGR1'!$D21,".",'Formulario PPGR1'!$E21,".",#REF!)) -> #REF! | C21: =IF('Formulario PPGR1'!$F21="","",#REF!) -> #REF! | D21: =IF('Formulario PPGR1'!$F21="","",#REF!) -> #REF! | E21: =IF('Formulario PPGR1'!$F21="","",#REF!) -> #REF! | F21: LE.1 - Calidad en la prestación de los servicios de salud | G21: =IFERROR(VLOOKUP($F21,Obj!$B$57:$C$76,2,FALSE),"") -> LE.1 | H21: Obj1.1 - Mejorar la provisión de los servicios de salud con enfoque en la promoción de la salud, prevención de la enfermedad y control de las enfermedades. | I21: =IFERROR(VLOOKUP($H21,Obj!$D$118:$E$124,2,FALSE),"") -> Obj1.1 | J21: Reducida la carga de las enfermedades crónicas incluidos los diferentes tipos de cáncer, los trastornos de salud mental, así como ante discapacidad, violencia y traumatismos, a través de servicios de atención que faciliten la detección temprana y la continuidad de la atención, eliminando las brechas en el acceso y utilización de los servicios de salud. | K21: 1.1.3.1 Estrategia de Prevención de las Enfermedades Crónicas No Transmisibles (ECNT) | L21: Porcentaje de individuos diagnosticados con Diabetes tipo II en seguimiento y tratamiento, según protocolo | M21: Porcentaje | O21: 0.9 | Q21: Primer Nivel
B22: =IF('Formulario PPGR1'!$F22="","",CONCATENATE('Formulario PPGR1'!$C22,".",'Formulario PPGR1'!$D22,".",'Formulario PPGR1'!$E22,".",#REF!)) | C22: =IF('Formulario PPGR1'!$F22="","",#REF!) | D22: =IF('Formulario PPGR1'!$F22="","",#REF!) | E22: =IF('Formulario PPGR1'!$F22="","",#REF!) | L22: Porcentaje de individuos diagnosticados con hipertensión arterial en seguimiento y tratamiento, según protocolo | M22: Porcentaje | O22: 0.9 | Q22: Primer Nivel
B23: =IF('Formulario PPGR1'!$F23="","",CONCATENATE('Formulario PPGR1'!$C23,".",'Formulario PPGR1'!$D23,".",'Formulario PPGR1'!$E23,".",#REF!)) | C23: =IF('Formulario PPGR1'!$F23="","",#REF!) | D23: =IF('Formulario PPGR1'!$F23="","",#REF!) | E23: =IF('Formulario PPGR1'!$F23="","",#REF!) | G23: =IFERROR(VLOOKUP($F23,Obj!$B$57:$C$76,2,FALSE),"") | I23: =IFERROR(VLOOKUP($H23,Obj!$D$118:$E$124,2,FALSE),"") | K23: 1.1.3.2 Programa para la Detección Oportuna y Atención por tipo de cáncer | L23: Porcentaje de mujeres entre 19 y 65 años a las que se les realizó el Papanicolau al menos una vez en el último año | M23: Porcentaje | O23: >50% | Q23: Materno, Infantil y Adolescentes
B24: =IF('Formulario PPGR1'!$F24="","",CONCATENATE('Formulario PPGR1'!$C24,".",'Formulario PPGR1'!$D24,".",'Formulario PPGR1'!$E24,".",#REF!)) | C24: =IF('Formulario PPGR1'!$F24="","",#REF!) | D24: =IF('Formulario PPGR1'!$F24="","",#REF!) | E24: =IF('Formulario PPGR1'!$F24="","",#REF!) | L24: Porcentaje de hombres mayores de 45 años a las que se les realizó exámen físico y prueba del antígeno prostático específico (PSA) al menos una vez en el último año | M24: Porcentaje | O24: >50% | Q24: Materno, Infantil y Adolescentes
B25: =IF('Formulario PPGR1'!$F25="","",CONCATENATE('Formulario PPGR1'!$C25,".",'Formulario PPGR1'!$D25,".",'Formulario PPGR1'!$E25,".",#REF!)) | C25: =IF('Formulario PPGR1'!$F25="","",#REF!) | D25: =IF('Formulario PPGR1'!$F25="","",#REF!) | E25: =IF('Formulario PPGR1'!$F25="","",#REF!) | L25: Porcentaje de mujeres mayores de 40 años que se le ha realizado una mamografía en el último año | M25: Porcentaje | O25: >50% | Q25: Materno, Infantil y Adolescentes
B26: =IF('Formulario PPGR1'!$F26="","",CONCATENATE('Formulario PPGR1'!$C26,".",'Formulario PPGR1'!$D26,".",'Formulario PPGR1'!$E26,".",#REF!)) | C26: =IF('Formulario PPGR1'!$F26="","",#REF!) | D26: =IF('Formulario PPGR1'!$F26="","",#REF!) | E26: =IF('Formulario PPGR1'!$F26="","",#REF!) | G26: =IFERROR(VLOOKUP($F26,Obj!$B$57:$C$76,2,FALSE),"") | I26: =IFERROR(VLOOKUP($H26,Obj!$D$118:$E$124,2,FALSE),"") | K26: 1.1.3.3 Implementación del plan de abordaje efectivo de las victimas de violencia de género que asisten a los EES | L26: Cobertura de las Unidades de Género en los EESS que aplican protocolos de detección y evaluación de riesgo ante violencia | M26: Porcentaje | O26: >45% | Q26: Género
B27: =IF('Formulario PPGR1'!$F27="","",CONCATENATE('Formulario PPGR1'!$C27,".",'Formulario PPGR1'!$D27,".",'Formulario PPGR1'!$E27,".",#REF!)) -> #REF! | C27: =IF('Formulario PPGR1'!$F27="","",#REF!) -> #REF! | D27: =IF('Formulario PPGR1'!$F27="","",#REF!) -> #REF! | E27: =IF('Formulario PPGR1'!$F27="","",#REF!) -> #REF! | F27: LE.1 - Calidad en la prestación de los servicios de salud | G27: =IFERROR(VLOOKUP($F27,Obj!$B$57:$C$76,2,FALSE),"") -> LE.1 | H27: Obj1.1 - Mejorar la provisión de los servicios de salud con enfoque en la promoción de la salud, prevención de la enfermedad y control de las enfermedades. | I27: =IFERROR(VLOOKUP($H27,Obj!$D$118:$E$124,2,FALSE),"") -> Obj1.1 | J27: Reducida la morbi-mortalidad de las enfermedades transmisibles, incluidas la infección por el VIH/SIDA, la Tuberculosis, las infecciones de transmisión sexual, las hepatitis virales, enfermedades transmitidas por vectores, enfermedades desatendidas, tropicales y zoonóticas, y las enfermedades prevenibles mediante vacunación; con especial atención en las poblaciones vulnerables | K27: 1.1.4.1 Provisión de servicios de salud para la atención a la malaria en la red de establecimientos | L27: % implementación del plan de atención a la malaria | M27: Porcentaje | O27: 1 | Q27: Gestión Clínica
B28: =IF('Formulario PPGR1'!$F28="","",CONCATENATE('Formulario PPGR1'!$C28,".",'Formulario PPGR1'!$D28,".",'Formulario PPGR1'!$E28,".",#REF!)) | C28: =IF('Formulario PPGR1'!$F28="","",#REF!) | D28: =IF('Formulario PPGR1'!$F28="","",#REF!) | E28: =IF('Formulario PPGR1'!$F28="","",#REF!) | G28: =IFERROR(VLOOKUP($F28,Obj!$B$57:$C$76,2,FALSE),"") | I28: =IFERROR(VLOOKUP($H28,Obj!$D$118:$E$124,2,FALSE),"") | K28: 1.1.4.2 Fortalecimiento de la gestión de los Servicios de Atención Integral (SAIs) para el VIH-SIDA en todos sus componentes | L28: Porcentaje de adultos y niños activos en tratamiento Antiretroviral (TARV) del total de PVVIH estimados | M28: Porcentaje | O28: >95% | Q28: Gestión Clínica
B29: =IF('Formulario PPGR1'!$F29="","",CONCATENATE('Formulario PPGR1'!$C29,".",'Formulario PPGR1'!$D29,".",'Formulario PPGR1'!$E29,".",#REF!)) | C29: =IF('Formulario PPGR1'!$F29="","",#REF!) | D29: =IF('Formulario PPGR1'!$F29="","",#REF!) | E29: =IF('Formulario PPGR1'!$F29="","",#REF!) | L29: Porcentaje de adultos y niños que han iniciado tratamiento Antiretroviral (TARV) con una carga viral suprimida a 12 meses (<1000 copias/ml) | M29: Porcentaje | O29: >95% | Q29: Gestión Clínica
B30: =IF('Formulario PPGR1'!$F30="","",CONCATENATE('Formulario PPGR1'!$C30,".",'Formulario PPGR1'!$D30,".",'Formulario PPGR1'!$E30,".",#REF!)) | C30: =IF('Formulario PPGR1'!$F30="","",#REF!) | D30: =IF('Formulario PPGR1'!$F30="","",#REF!) | E30: =IF('Formulario PPGR1'!$F30="","",#REF!) | G30: =IFERROR(VLOOKUP($F30,Obj!$B$57:$C$76,2,FALSE),"") | I30: =IFERROR(VLOOKUP($H30,Obj!$D$118:$E$124,2,FALSE),"") | K30: 1.1.4.3 Fortalecimiento de la provisión de los Servicios a pacientes con Enfermedades Transmitidas por Vectores | L30: % implementación del plan de detección y atención enfermedades vectoriales | M30: Porcentaje | O30: 0.9 | Q30: Gestión Clínica
B31: =IF('Formulario PPGR1'!$F31="","",CONCATENATE('Formulario PPGR1'!$C31,".",'Formulario PPGR1'!$D31,".",'Formulario PPGR1'!$E31,".",#REF!)) | C31: =IF('Formulario PPGR1'!$F31="","",#REF!) | D31: =IF('Formulario PPGR1'!$F31="","",#REF!) | E31: =IF('Formulario PPGR1'!$F31="","",#REF!) | G31: =IFERROR(VLOOKUP($F31,Obj!$B$57:$C$76,2,FALSE),"") | I31: =IFERROR(VLOOKUP($H31,Obj!$D$118:$E$124,2,FALSE),"") | K31: 1.1.4.4 Fortalecimiento de la provisión de los Servicios de Atención a las Infecciones de Transmisión Sexual (ITS) | L31: % incremento de las pruebas de detección ITS | M31: Porcentaje | O31: 0.22 | Q31: Gestión Clínica
B32: =IF('Formulario PPGR1'!$F32="","",CONCATENATE('Formulario PPGR1'!$C32,".",'Formulario PPGR1'!$D32,".",'Formulario PPGR1'!$E32,".",#REF!)) | C32: =IF('Formulario PPGR1'!$F32="","",#REF!) | D32: =IF('Formulario PPGR1'!$F32="","",#REF!) | E32: =IF('Formulario PPGR1'!$F32="","",#REF!) | G32: =IFERROR(VLOOKUP($F32,Obj!$B$57:$C$76,2,FALSE),"") | I32: =IFERROR(VLOOKUP($H32,Obj!$D$118:$E$124,2,FALSE),"") | K32: 1.1.4.5 Fortalecimiento a la atención en los servicios ante la Tb (TB, TB-DR, TB/VIH) enfocado al cumplimiento de las metas para la Detección, Diagnostico y Tratamiento (DDT) | L32: Tasa de éxito en el tratamiento de la tuberculosis (% de casos registrados) | M32: Porcentaje | O32: >90% | Q32: Gestión Clínica | V32: Desarrollo y Gestión de la Red de Servicios
B33: =IF('Formulario PPGR1'!$F33="","",CONCATENATE('Formulario PPGR1'!$C33,".",'Formulario PPGR1'!$D33,".",'Formulario PPGR1'!$E33,".",#REF!)) | C33: =IF('Formulario PPGR1'!$F33="","",#REF!) | D33: =IF('Formulario PPGR1'!$F33="","",#REF!) | E33: =IF('Formulario PPGR1'!$F33="","",#REF!) | L33: Cobertura de seropositivos que han sido diagnósticados con Tb y han comenzado el tratamiento de tuberculosis | M33: Porcentaje | O33: >90% | Q33: Gestión Clínica
B34: =IF('Formulario PPGR1'!$F34="","",CONCATENATE('Formulario PPGR1'!$C34,".",'Formulario PPGR1'!$D34,".",'Formulario PPGR1'!$E34,".",#REF!)) -> #REF! | C34: =IF('Formulario PPGR1'!$F34="","",#REF!) -> #REF! | D34: =IF('Formulario PPGR1'!$F34="","",#REF!) -> #REF! | E34: =IF('Formulario PPGR1'!$F34="","",#REF!) -> #REF! | F34: LE.1 - Calidad en la prestación de los servicios de salud | G34: =IFERROR(VLOOKUP($F34,Obj!$B$57:$C$76,2,FALSE),"") -> LE.1 | H34: Obj1.1 - Mejorar la provisión de los servicios de salud con enfoque en la promoción de la salud, prevención de la enfermedad y control de las enfermedades. | I34: =IFERROR(VLOOKUP($H34,Obj!$D$118:$E$124,2,FALSE),"") -> Obj1.1 | J34: Incrementada la capacidad de respuesta que favorezca a disminuir la morbi-mortalidad resultantes de las emergencias y desastres, mediante la detección, preparación y mitigación de los eventos que suponen riesgos y amenazas, bajo un enfoque multisectorial que contribuya a la salud y seguridad de las personas | K34: 1.1.5.1 Fortalecimiento de los Servicios de Emergencias Médicas Hospitalarias para la asistencia eficiente, humanizada y de calidad. | L34: % CEAS que aplican triaje | M34: Porcentaje | O34: 0.95 | Q34: Centros Hospitalarios
B35: =IF('Formulario PPGR1'!$F35="","",CONCATENATE('Formulario PPGR1'!$C35,".",'Formulario PPGR1'!$D35,".",'Formulario PPGR1'!$E35,".",#REF!)) -> #REF! | C35: =IF('Formulario PPGR1'!$F35="","",#REF!) -> #REF! | D35: =IF('Formulario PPGR1'!$F35="","",#REF!) -> #REF! | E35: =IF('Formulario PPGR1'!$F35="","",#REF!) -> #REF! | F35: LE.1 - Calidad en la prestación de los servicios de salud | G35: =IFERROR(VLOOKUP($F35,Obj!$B$57:$C$76,2,FALSE),"") -> LE.1 | H35: Obj1.1 - Mejorar la provisión de los servicios de salud con enfoque en la promoción de la salud, prevención de la enfermedad y control de las enfermedades. | I35: =IFERROR(VLOOKUP($H35,Obj!$D$118:$E$124,2,FALSE),"") -> Obj1.1 | J35: Incrementada la capacidad de respuesta que favorezca a disminuir la morbi-mortalidad resultantes de las emergencias y desastres, mediante la detección, preparación y mitigación de los eventos que suponen riesgos y amenazas, bajo un enfoque multisectorial que contribuya a la salud y seguridad de las personas | K35: 1.1.5.2 Redes de Servicios de Salud Resilientes a Emergencias de Salud Pública y Desastres Naturales mediante la Preparación y Respuesta de los Establecimientos. | L35: Porcentaje de establecimientos que cuenta con el Plan Hospitalario ante Emergencias de Salud Publica y Desastres Naturales. | M35: Porcentaje | N35: 0.45 | O35: >65% | Q35: Centros Hospitalarios
B36: =IF('Formulario PPGR1'!$F36="","",CONCATENATE('Formulario PPGR1'!$C36,".",'Formulario PPGR1'!$D36,".",'Formulario PPGR1'!$E36,".",#REF!)) -> #REF! | C36: =IF('Formulario PPGR1'!$F36="","",#REF!) -> #REF! | D36: =IF('Formulario PPGR1'!$F36="","",#REF!) -> #REF! | E36: =IF('Formulario PPGR1'!$F36="","",#REF!) -> #REF! | F36: LE.1 - Calidad en la prestación de los servicios de salud | G36: =IFERROR(VLOOKUP($F36,Obj!$B$57:$C$76,2,FALSE),"") -> LE.1 | H36: Obj1.2 - Asegurar la calidad de la atención y seguridad del paciente en el marco de los derechos de las personas, que se traduzca en un incremento de la confianza y satisfacción de los usuarios de los servicios de salud | I36: =IFERROR(VLOOKUP($H36,Obj!$D$118:$E$124,2,FALSE),"") -> Obj1.2 | J36: Desarrollo y mantenimiento de un modelo de evaluación de la entrega de servicios sanitarios con carácter igualitario y libre de discriminación, que promueva mediante la continua retroalimentación, la generación de mejores resultados en materia de salud lo que se traduzca en el aumento de la satisfacción de las personas con respecto a los servicios públicos de salud | K36: 1.2.1.1 Monitoreo del cumplimiento de los indicadores de calidad del programa de hemodiálisis y diálisis peritoneal | L36: % cumplimiento controles de calidad del programa de diálisis | M36: Porcentaje | O36: 0.95 | Q36: Centros Hospitalarios
B37: =IF('Formulario PPGR1'!$F37="","",CONCATENATE('Formulario PPGR1'!$C37,".",'Formulario PPGR1'!$D37,".",'Formulario PPGR1'!$E37,".",#REF!)) | C37: =IF('Formulario PPGR1'!$F37="","",#REF!) | D37: =IF('Formulario PPGR1'!$F37="","",#REF!) | E37: =IF('Formulario PPGR1'!$F37="","",#REF!) | G37: =IFERROR(VLOOKUP($F37,Obj!$B$57:$C$76,2,FALSE),"") | I37: =IFERROR(VLOOKUP($H37,Obj!$D$118:$E$124,2,FALSE),"") | K37: 1.2.1.2 Despliegue del Plan de Gestión Listas de Espera Quirúrgica en hospitales priorizados | L37: % disminución lista de espera quirúrgica | M37: Porcentaje | O37: 0.35 | Q37: Centros Hospitalarios
B38: =IF('Formulario PPGR1'!$F38="","",CONCATENATE('Formulario PPGR1'!$C38,".",'Formulario PPGR1'!$D38,".",'Formulario PPGR1'!$E38,".",#REF!)) | C38: =IF('Formulario PPGR1'!$F38="","",#REF!) | D38: =IF('Formulario PPGR1'!$F38="","",#REF!) | E38: =IF('Formulario PPGR1'!$F38="","",#REF!) | G38: =IFERROR(VLOOKUP($F38,Obj!$B$57:$C$76,2,FALSE),"") | I38: =IFERROR(VLOOKUP($H38,Obj!$D$118:$E$124,2,FALSE),"") | K38: 1.2.1.3 Despliegue de la Cartera de Servicios de Salud en la Red SNS | L38: % adecuación cartera de servicios por tipo de establecimiento | M38: Porcentaje | O38: 0.9 | Q38: Gestión Clínica
B39: =IF('Formulario PPGR1'!$F39="","",CONCATENATE('Formulario PPGR1'!$C39,".",'Formulario PPGR1'!$D39,".",'Formulario PPGR1'!$E39,".",#REF!)) | C39: =IF('Formulario PPGR1'!$F39="","",#REF!) | D39: =IF('Formulario PPGR1'!$F39="","",#REF!) | E39: =IF('Formulario PPGR1'!$F39="","",#REF!) | G39: =IFERROR(VLOOKUP($F39,Obj!$B$57:$C$76,2,FALSE),"") | I39: =IFERROR(VLOOKUP($H39,Obj!$D$118:$E$124,2,FALSE),"") | K39: 1.2.1.4 Gestión de usuarios para adhesión a una cultura institucional de servicio | L39: Promedio satisfacción de usuarios de la red | M39: Porcentaje | O39: 0.9 | Q39: Atención a los Usuarios
B40: =IF('Formulario PPGR1'!$F40="","",CONCATENATE('Formulario PPGR1'!$C40,".",'Formulario PPGR1'!$D40,".",'Formulario PPGR1'!$E40,".",#REF!)) | C40: =IF('Formulario PPGR1'!$F40="","",#REF!) | D40: =IF('Formulario PPGR1'!$F40="","",#REF!) | E40: =IF('Formulario PPGR1'!$F40="","",#REF!) | G40: =IFERROR(VLOOKUP($F40,Obj!$B$57:$C$76,2,FALSE),"") | I40: =IFERROR(VLOOKUP($H40,Obj!$D$118:$E$124,2,FALSE),"") | K40: 1.2.1.5 Monitoreo de la calidad de los servicios de salud ofertados | L40: Promedio de cumplimiento de los criterios establecidos en los documentos normativos durante la atención en la consulta prenatal | M40: Porcentaje | O40: 0.95 | Q40: Calidad de los Servicios de Salud
B41: =IF('Formulario PPGR1'!$F41="","",CONCATENATE('Formulario PPGR1'!$C41,".",'Formulario PPGR1'!$D41,".",'Formulario PPGR1'!$E41,".",#REF!)) | C41: =IF('Formulario PPGR1'!$F41="","",#REF!) | D41: =IF('Formulario PPGR1'!$F41="","",#REF!) | E41: =IF('Formulario PPGR1'!$F41="","",#REF!) | L41: Promedio de cumplimiento de los criterios establecidos en los documentos normativos durante la atención al recién nacido | M41: Porcentaje | O41: 0.95 | Q41: Calidad de los Servicios de Salud
B42: =IF('Formulario PPGR1'!$F42="","",CONCATENATE('Formulario PPGR1'!$C42,".",'Formulario PPGR1'!$D42,".",'Formulario PPGR1'!$E42,".",#REF!)) | C42: =IF('Formulario PPGR1'!$F42="","",#REF!) | D42: =IF('Formulario PPGR1'!$F42="","",#REF!) | E42: =IF('Formulario PPGR1'!$F42="","",#REF!) | L42: Promedio de cumplimiento de los criterios establecidos en los documentos normativos durante la atención en preparto | M42: Porcentaje | O42: 0.95 | Q42: Calidad de los Servicios de Salud
B43: =IF('Formulario PPGR1'!$F43="","",CONCATENATE('Formulario PPGR1'!$C43,".",'Formulario PPGR1'!$D43,".",'Formulario PPGR1'!$E43,".",#REF!)) | C43: =IF('Formulario PPGR1'!$F43="","",#REF!) | D43: =IF('Formulario PPGR1'!$F43="","",#REF!) | E43: =IF('Formulario PPGR1'!$F43="","",#REF!) | L43: Promedio de cumplimiento de los criterios establecidos en los documentos normativos durante la atención en el parto | M43: Porcentaje | O43: 0.95 | Q43: Calidad de los Servicios de Salud
...

Sheet Formulario PPGR2
H2: ='Formulario PPGR1'!G2 -> Servicio Nacional de Salud
H3: ='Formulario PPGR1'!G3 -> Dirección de Planificación y Desarrollo | Z3: =IF('Formulario PPGR1'!$M$3="SNS - Dirección Central","ls_Departamento","Ls_DepartamentosSRS") -> Ls_DepartamentosSRS
H4: =+'Formulario PPGR1'!G4 -> Plan Operativo Anual
H5: Identificación de actividades
B8: ID_Dependendencia | C8: POA | D8: SRS | E8: AREA | F8: TIPO | G8: Productos | H8: Código | I8: Actividades Programables Presupuestables | J8: Ene | K8: Feb | L8: Mar | M8: Abr | N8: May | O8: Jun | P8: Jul | Q8: Ago | R8: Sep | S8: Oct | T8: Nov | U8: Dic | V8: Total de Acciones | W8: Medio de Verificación 1 | X8: Medio de Verificación 2 | Y8: Medio de Verificación 3 | Z8: Responsable | AA8: Observaciones
B9: =IF('Formulario PPGR2'!$G9="","",CONCATENATE('Formulario PPGR2'!$C9,".",'Formulario PPGR2'!$D9,".",'Formulario PPGR2'!$E9,".",'Formulario PPGR2'!$F9)) -> #REF! | C9: =IF('Formulario PPGR2'!$G9="","",'Formulario PPGR1'!#REF!) -> #REF! | D9: =IF('Formulario PPGR2'!$G9="","",'Formulario PPGR1'!#REF!) -> #REF! | E9: =IF('Formulario PPGR2'!$G9="","",'Formulario PPGR1'!#REF!) -> #REF! | F9: =IF('Formulario PPGR2'!$G9="","",'Formulario PPGR1'!#REF!) -> #REF! | G9: 1.1.1.1 Implementación del Programa Salud Bucodental (PPI 16) | H9: SRSEV 1.1.1.1.01 | I9: Implementación del plan de capacitación del personal de los servicios odontológicos | O9: 1 | U9: 1 | V9: =SUM('Formulario PPGR2'!$J9:$U9) -> 2 | W9: Listado de participación | X9: Informe | Z9: Odontología
B10: =IF('Formulario PPGR2'!$G10="","",CONCATENATE('Formulario PPGR2'!$C10,".",'Formulario PPGR2'!$D10,".",'Formulario PPGR2'!$E10,".",'Formulario PPGR2'!$F10)) | C10: =IF('Formulario PPGR2'!$G10="","",'Formulario PPGR1'!#REF!) | D10: =IF('Formulario PPGR2'!$G10="","",'Formulario PPGR1'!#REF!) | E10: =IF('Formulario PPGR2'!$G10="","",'Formulario PPGR1'!#REF!) | F10: =IF('Formulario PPGR2'!$G10="","",'Formulario PPGR1'!#REF!) | H10: SRSEV 1.1.1.1.02 | I10: Monitoreo y evaluacion de los servicios odontológicos | J10: 1 | M10: 1 | P10: 1 | S10: 1 | V10: =SUM('Formulario PPGR2'!$J10:$U10) -> 4 | W10: Informe | Z10: Odontología
B11: =IF('Formulario PPGR2'!$G11="","",CONCATENATE('Formulario PPGR2'!$C11,".",'Formulario PPGR2'!$D11,".",'Formulario PPGR2'!$E11,".",'Formulario PPGR2'!$F11)) | C11: =IF('Formulario PPGR2'!$G11="","",'Formulario PPGR1'!#REF!) | D11: =IF('Formulario PPGR2'!$G11="","",'Formulario PPGR1'!#REF!) | E11: =IF('Formulario PPGR2'!$G11="","",'Formulario PPGR1'!#REF!) | F11: =IF('Formulario PPGR2'!$G11="","",'Formulario PPGR1'!#REF!) | H11: SRSEV 1.1.1.1.03 | I11: Levantamiento de los servicios Odontologicos | J11: 1 | P11: 1 | V11: =SUM('Formulario PPGR2'!$J11:$U11) -> 2 | W11: Informe | Z11: Odontología
B12: =IF('Formulario PPGR2'!$G12="","",CONCATENATE('Formulario PPGR2'!$C12,".",'Formulario PPGR2'!$D12,".",'Formulario PPGR2'!$E12,".",'Formulario PPGR2'!$F12)) | C12: =IF('Formulario PPGR2'!$G12="","",'Formulario PPGR1'!#REF!) | D12: =IF('Formulario PPGR2'!$G12="","",'Formulario PPGR1'!#REF!) | E12: =IF('Formulario PPGR2'!$G12="","",'Formulario PPGR1'!#REF!) | F12: =IF('Formulario PPGR2'!$G12="","",'Formulario PPGR1'!#REF!) | H12: SRSEV 1.1.1.1.04 | I12: Seguimiento a las intervenciones del programa Comunidad Libre de Caries | Q12: 1 | U12: 1 | V12: =SUM('Formulario PPGR2'!$J12:$U12) -> 2 | W12: Informe | Z12: Odontología
H13: SRSEV 1.1.1.1.05 | I13: Reuniones de seguimiento, evaluación y control con equipo tecnico de las diferentes áreas de odontologia | J13: 1 | N13: 1 | Q13: 1 | U13: 1 | V13: 4 | W13: Listado de participación | Z13: Odontología
B14: =IF('Formulario PPGR2'!$G14="","",CONCATENATE('Formulario PPGR2'!$C14,".",'Formulario PPGR2'!$D14,".",'Formulario PPGR2'!$E14,".",'Formulario PPGR2'!$F14)) | C14: =IF('Formulario PPGR2'!$G14="","",'Formulario PPGR1'!#REF!) | D14: =IF('Formulario PPGR2'!$G14="","",'Formulario PPGR1'!#REF!) | E14: =IF('Formulario PPGR2'!$G14="","",'Formulario PPGR1'!#REF!) | F14: =IF('Formulario PPGR2'!$G14="","",'Formulario PPGR1'!#REF!) | H14: SRSEV 1.1.1.1.06 | I14: Desarrollo de plan de acciones para el acondicionamiento de infraestructura, mantenimiento de equipos y equipamiento de las áreas de odontología EES | L14: 1 | O14: 1 | R14: 1 | T14: 1 | V14: =SUM('Formulario PPGR2'!$J14:$U14) -> 4 | W14: Plan | Z14: Odontología
B15: =IF('Formulario PPGR2'!$G15="","",CONCATENATE('Formulario PPGR2'!$C15,".",'Formulario PPGR2'!$D15,".",'Formulario PPGR2'!$E15,".",'Formulario PPGR2'!$F15)) -> #REF! | C15: =IF('Formulario PPGR2'!$G15="","",'Formulario PPGR1'!#REF!) -> #REF! | D15: =IF('Formulario PPGR2'!$G15="","",'Formulario PPGR1'!#REF!) -> #REF! | E15: =IF('Formulario PPGR2'!$G15="","",'Formulario PPGR1'!#REF!) -> #REF! | F15: =IF('Formulario PPGR2'!$G15="","",'Formulario PPGR1'!#REF!) -> #REF! | G15: 1.1.1.2 Mejora del suministro y abastecimiento de medicamentos | H15: SRSEV 1.1.1.2.01 | I15: Elaboración y difusión del Boletín Regional de Información Estratégica del SUGEMI | J15: 1 | M15: 1 | P15: 1 | S15: 1 | V15: =SUM('Formulario PPGR2'!$J15:$U15) -> 4 | W15: Otros | Y15: Boletin Digital | Z15: Medicamentos
B16: =IF('Formulario PPGR2'!$G16="","",CONCATENATE('Formulario PPGR2'!$C16,".",'Formulario PPGR2'!$D16,".",'Formulario PPGR2'!$E16,".",'Formulario PPGR2'!$F16)) | C16: =IF('Formulario PPGR2'!$G16="","",'Formulario PPGR1'!#REF!) | D16: =IF('Formulario PPGR2'!$G16="","",'Formulario PPGR1'!#REF!) | E16: =IF('Formulario PPGR2'!$G16="","",'Formulario PPGR1'!#REF!) | F16: =IF('Formulario PPGR2'!$G16="","",'Formulario PPGR1'!#REF!) | H16: SRSEV 1.1.1.2.02 | I16: Taller de capacitación para la estimación y programación de medicamentos e insumos de uso general del SRS y sus CEAS, 2025 | K16: 1 | L16: 1 | V16: =SUM('Formulario PPGR2'!$J16:$U16) -> 2 | W16: Listado de participación | X16: Agenda | Z16: Medicamentos | AA16: 1 taller por SRS con sus CEAS (SRS 1,2,3 y 5 en febrero y para marzo los SRS 4,6,7,8 y 0).
B17: =IF('Formulario PPGR2'!$G17="","",CONCATENATE('Formulario PPGR2'!$C17,".",'Formulario PPGR2'!$D17,".",'Formulario PPGR2'!$E17,".",'Formulario PPGR2'!$F17)) | C17: =IF('Formulario PPGR2'!$G17="","",'Formulario PPGR1'!#REF!) | D17: =IF('Formulario PPGR2'!$G17="","",'Formulario PPGR1'!#REF!) | E17: =IF('Formulario PPGR2'!$G17="","",'Formulario PPGR1'!#REF!) | F17: =IF('Formulario PPGR2'!$G17="","",'Formulario PPGR1'!#REF!) | H17: SRSEV 1.1.1.2.03 | I17: Taller para la consolidación de la programación de medicamentos e insumos de uso general de los CEAS, 2025 | M17: 1 | N17: 1 | V17: =SUM('Formulario PPGR2'!$J17:$U17) -> 2 | W17: Listado de participación | X17: Agenda | Z17: Medicamentos | AA17: 1 taller por SRS con sus CEAS (SRS 1,2,3 y 5 abril y para mayo SRS 4,6,7,8 y 0).
B18: =IF('Formulario PPGR2'!$G18="","",CONCATENATE('Formulario PPGR2'!$C18,".",'Formulario PPGR2'!$D18,".",'Formulario PPGR2'!$E18,".",'Formulario PPGR2'!$F18)) | C18: =IF('Formulario PPGR2'!$G18="","",'Formulario PPGR1'!#REF!) | D18: =IF('Formulario PPGR2'!$G18="","",'Formulario PPGR1'!#REF!) | E18: =IF('Formulario PPGR2'!$G18="","",'Formulario PPGR1'!#REF!) | F18: =IF('Formulario PPGR2'!$G18="","",'Formulario PPGR1'!#REF!) | H18: SRSEV 1.1.1.2.04 | I18: Remisión mensual a la DMI del formulario SUGEMI-2 de los CEAS y SRS con despacho de PROMESE/CAL | J18: 1 | K18: 1 | L18: 1 | M18: 1 | N18: 1 | O18: 1 | P18: 1 | Q18: 1 | R18: 1 | S18: 1 | T18: 1 | U18: 1 | V18: =SUM('Formulario PPGR2'!$J18:$U18) -> 12 | W18: Otros | Y18: Correo a DMI con formulario | Z18: Medicamentos | AA18: Cada SRS enviará a la DMI correo con el adjunto del SUGEMI-2 de los CEAS y SRS
B19: =IF('Formulario PPGR2'!$G19="","",CONCATENATE('Formulario PPGR2'!$C19,".",'Formulario PPGR2'!$D19,".",'Formulario PPGR2'!$E19,".",'Formulario PPGR2'!$F19)) | C19: =IF('Formulario PPGR2'!$G19="","",'Formulario PPGR1'!#REF!) | D19: =IF('Formulario PPGR2'!$G19="","",'Formulario PPGR1'!#REF!) | E19: =IF('Formulario PPGR2'!$G19="","",'Formulario PPGR1'!#REF!) | F19: =IF('Formulario PPGR2'!$G19="","",'Formulario PPGR1'!#REF!) | H19: SRSEV 1.1.1.2.05 | I19: Supervisión de la gestión de suministro de los medicamentos de programas VIH, TB y PF en los EES priorizados | L19: 1 | O19: 1 | R19: 1 | T19: 1 | V19: =SUM('Formulario PPGR2'!$J19:$U19) -> 4 | W19: Listado de participación | X19: Informe | Z19: Medicamentos | AA19: Cada SRS reportará un informe con el consolidado de las supervisiones realizadas a los EES
B20: =IF('Formulario PPGR2'!$G20="","",CONCATENATE('Formulario PPGR2'!$C20,".",'Formulario PPGR2'!$D20,".",'Formulario PPGR2'!$E20,".",'Formulario PPGR2'!$F20)) | C20: =IF('Formulario PPGR2'!$G20="","",'Formulario PPGR1'!#REF!) | D20: =IF('Formulario PPGR2'!$G20="","",'Formulario PPGR1'!#REF!) | E20: =IF('Formulario PPGR2'!$G20="","",'Formulario PPGR1'!#REF!) | F20: =IF('Formulario PPGR2'!$G20="","",'Formulario PPGR1'!#REF!) | H20: SRSEV 1.1.1.2.06 | I20: Supervisión del cumplimiento de los procedimientos operativos del SUGEMI en los Hospitales y CPN | L20: 1 | O20: 1 | R20: 1 | T20: 1 | V20: =SUM('Formulario PPGR2'!$J20:$U20) -> 4 | W20: Listado de participación | X20: Informe | Z20: Medicamentos | AA20: Cada SRS reportará un informe con el consolidado de las supervisiones realizadas a los EES
B21: =IF('Formulario PPGR2'!$G21="","",CONCATENATE('Formulario PPGR2'!$C21,".",'Formulario PPGR2'!$D21,".",'Formulario PPGR2'!$E21,".",'Formulario PPGR2'!$F21)) | C21: =IF('Formulario PPGR2'!$G21="","",'Formulario PPGR1'!#REF!) | D21: =IF('Formulario PPGR2'!$G21="","",'Formulario PPGR1'!#REF!) | E21: =IF('Formulario PPGR2'!$G21="","",'Formulario PPGR1'!#REF!) | F21: =IF('Formulario PPGR2'!$G21="","",'Formulario PPGR1'!#REF!) | H21: SRSEV 1.1.1.2.07 | I21: Taller de capacitación para EES sobre la importancia de la calidad del dato en la cadena de suministro del SUGEMI | J21: 1 | P21: 1 | T21: 1 | V21: =SUM('Formulario PPGR2'!$J21:$U21) -> 3 | W21: Listado de participación | X21: Agenda | Z21: Medicamentos | AA21: Cada SRS realizará talleres de capacitación a los EES seleccionados.
B22: =IF('Formulario PPGR2'!$G22="","",CONCATENATE('Formulario PPGR2'!$C22,".",'Formulario PPGR2'!$D22,".",'Formulario PPGR2'!$E22,".",'Formulario PPGR2'!$F22)) | C22: =IF('Formulario PPGR2'!$G22="","",'Formulario PPGR1'!#REF!) | D22: =IF('Formulario PPGR2'!$G22="","",'Formulario PPGR1'!#REF!) | E22: =IF('Formulario PPGR2'!$G22="","",'Formulario PPGR1'!#REF!) | F22: =IF('Formulario PPGR2'!$G22="","",'Formulario PPGR1'!#REF!) | H22: SRSEV 1.1.1.2.08 | I22: Seguimiento a la funcionalidad de los Comité Farmaco Terapéutico (CFT) de los hospitales | O22: 1 | U22: 1 | V22: =SUM('Formulario PPGR2'!$J22:$U22) -> 2 | W22: Informe | Z22: Medicamentos | AA22: Informe consolidado de las minutas reportadas por cada Hospital.
B23: =IF('Formulario PPGR2'!$G23="","",CONCATENATE('Formulario PPGR2'!$C23,".",'Formulario PPGR2'!$D23,".",'Formulario PPGR2'!$E23,".",'Formulario PPGR2'!$F23)) | C23: =IF('Formulario PPGR2'!$G23="","",'Formulario PPGR1'!#REF!) | D23: =IF('Formulario PPGR2'!$G23="","",'Formulario PPGR1'!#REF!) | E23: =IF('Formulario PPGR2'!$G23="","",'Formulario PPGR1'!#REF!) | F23: =IF('Formulario PPGR2'!$G23="","",'Formulario PPGR1'!#REF!) | H23: SRSEV 1.1.1.2.09 | I23: Reunión del Comité Farmaco Terapéutico Regional | K23: 1 | P23: 1 | T23: 1 | V23: =SUM('Formulario PPGR2'!$J23:$U23) -> 3 | W23: Listado de participación | X23: Minuta | Z23: Medicamentos | AA23: Cada CFT regional discutirá los temas de Cadena de Suministro de Medicamentos e Insumos y promoción del uso racional de los medicamentos
B24: =IF('Formulario PPGR2'!$G24="","",CONCATENATE('Formulario PPGR2'!$C24,".",'Formulario PPGR2'!$D24,".",'Formulario PPGR2'!$E24,".",'Formulario PPGR2'!$F24)) -> #REF! | C24: =IF('Formulario PPGR2'!$G24="","",'Formulario PPGR1'!#REF!) -> #REF! | D24: =IF('Formulario PPGR2'!$G24="","",'Formulario PPGR1'!#REF!) -> #REF! | E24: =IF('Formulario PPGR2'!$G24="","",'Formulario PPGR1'!#REF!) -> #REF! | F24: =IF('Formulario PPGR2'!$G24="","",'Formulario PPGR1'!#REF!) -> #REF! | G24: 1.1.1.3 Ampliación y mejora de la provisión de servicios de apoyo diagnóstico y laboratorio | H24: SRSEV 1.1.1.3.01 | I24: Supervisión de la gestión de la provisión de insumos y reactivos en los servicios de laboratorio (incluyendo reactivos e insumos de CD4 y Carga Viral) e imágenes | L24: 1 | O24: 1 | R24: 1 | U24: 1 | V24: =SUM('Formulario PPGR2'!$J24:$U24) -> 4 | W24: Listado de participación | X24: Informe | Z24: Laboratorios e Imágenes
B25: =IF('Formulario PPGR2'!$G25="","",CONCATENATE('Formulario PPGR2'!$C25,".",'Formulario PPGR2'!$D25,".",'Formulario PPGR2'!$E25,".",'Formulario PPGR2'!$F25)) | C25: =IF('Formulario PPGR2'!$G25="","",'Formulario PPGR1'!#REF!) | D25: =IF('Formulario PPGR2'!$G25="","",'Formulario PPGR1'!#REF!) | E25: =IF('Formulario PPGR2'!$G25="","",'Formulario PPGR1'!#REF!) | F25: =IF('Formulario PPGR2'!$G25="","",'Formulario PPGR1'!#REF!) | H25: SRSEV 1.1.1.3.02 | I25: Supervisión a los EES para el seguimiento a la implementación de las herramientas asociadas al Procedimiento de Gestión de los servicios diagnósticos de laboratorio e imágenes | N25: 1 | T25: 1 | V25: =SUM('Formulario PPGR2'!$J25:$U25) -> 2 | W25: Listado de participación | X25: Otros | Y25: Formulario de Supervision y captura de informe enviado DLI | Z25: Laboratorios e Imágenes
B26: =IF('Formulario PPGR2'!$G26="","",CONCATENATE('Formulario PPGR2'!$C26,".",'Formulario PPGR2'!$D26,".",'Formulario PPGR2'!$E26,".",'Formulario PPGR2'!$F26)) | C26: =IF('Formulario PPGR2'!$G26="","",'Formulario PPGR1'!#REF!) | D26: =IF('Formulario PPGR2'!$G26="","",'Formulario PPGR1'!#REF!) | E26: =IF('Formulario PPGR2'!$G26="","",'Formulario PPGR1'!#REF!) | F26: =IF('Formulario PPGR2'!$G26="","",'Formulario PPGR1'!#REF!) | H26: SRSEV 1.1.1.3.03 | I26: Conformación y/o actualización de clubes de donantes de sangre en EES | M26: 1 | Q26: 1 | T26: 1 | V26: =SUM('Formulario PPGR2'!$J26:$U26) -> 3 | W26: Reporte | X26: Otros | Y26: Acta de formacion por EES. Captura de envío a DLI | Z26: Laboratorios e Imágenes | AA26: Ajustar a conformación o actualización según aplique
B27: =IF('Formulario PPGR2'!$G27="","",CONCATENATE('Formulario PPGR2'!$C27,".",'Formulario PPGR2'!$D27,".",'Formulario PPGR2'!$E27,".",'Formulario PPGR2'!$F27)) | C27: =IF('Formulario PPGR2'!$G27="","",'Formulario PPGR1'!#REF!) | D27: =IF('Formulario PPGR2'!$G27="","",'Formulario PPGR1'!#REF!) | E27: =IF('Formulario PPGR2'!$G27="","",'Formulario PPGR1'!#REF!) | F27: =IF('Formulario PPGR2'!$G27="","",'Formulario PPGR1'!#REF!) | H27: SRSEV 1.1.1.3.04 | I27: Supervisión a la realización de la prueba de HPV en los laboratorios procesadores | M27: 1 | P27: 1 | S27: 1 | V27: =SUM('Formulario PPGR2'!$J27:$U27) -> 3 | W27: Listado de participación | X27: Informe | Z27: Laboratorios e Imágenes | AA27: Aplica para las Regiones 0,2,3,5,6,8
B28: =IF('Formulario PPGR2'!$G28="","",CONCATENATE('Formulario PPGR2'!$C28,".",'Formulario PPGR2'!$D28,".",'Formulario PPGR2'!$E28,".",'Formulario PPGR2'!$F28)) | C28: =IF('Formulario PPGR2'!$G28="","",'Formulario PPGR1'!#REF!) | D28: =IF('Formulario PPGR2'!$G28="","",'Formulario PPGR1'!#REF!) | E28: =IF('Formulario PPGR2'!$G28="","",'Formulario PPGR1'!#REF!) | F28: =IF('Formulario PPGR2'!$G28="","",'Formulario PPGR1'!#REF!) | H28: SRSEV 1.1.1.3.05 | I28: Supervisión a los EES en la implementación de los procedimientos del SUTMER | N28: 1 | T28: 1 | V28: =SUM('Formulario PPGR2'!$J28:$U28) -> 2 | W28: Listado de participación | X28: Otros | Y28: Formulario de Supervision. Captura de envío | Z28: Laboratorios e Imágenes
B29: =IF('Formulario PPGR2'!$G29="","",CONCATENATE('Formulario PPGR2'!$C29,".",'Formulario PPGR2'!$D29,".",'Formulario PPGR2'!$E29,".",'Formulario PPGR2'!$F29)) | C29: =IF('Formulario PPGR2'!$G29="","",'Formulario PPGR1'!#REF!) | D29: =IF('Formulario PPGR2'!$G29="","",'Formulario PPGR1'!#REF!) | E29: =IF('Formulario PPGR2'!$G29="","",'Formulario PPGR1'!#REF!) | F29: =IF('Formulario PPGR2'!$G29="","",'Formulario PPGR1'!#REF!) | H29: SRSEV 1.1.1.3.06 | I29: Supervisión para la ampliación de la cartera de servicios a los EES y Centros Diagnósticos | O29: 1 | T29: 1 | V29: =SUM('Formulario PPGR2'!$J29:$U29) -> 2 | W29: Informe | X29: Listado de participación | Y29: captura de envío a DLI | Z29: Laboratorios e Imágenes
B30: =IF('Formulario PPGR2'!$G30="","",CONCATENATE('Formulario PPGR2'!$C30,".",'Formulario PPGR2'!$D30,".",'Formulario PPGR2'!$E30,".",'Formulario PPGR2'!$F30)) | C30: =IF('Formulario PPGR2'!$G30="","",'Formulario PPGR1'!#REF!) | D30: =IF('Formulario PPGR2'!$G30="","",'Formulario PPGR1'!#REF!) | E30: =IF('Formulario PPGR2'!$G30="","",'Formulario PPGR1'!#REF!) | F30: =IF('Formulario PPGR2'!$G30="","",'Formulario PPGR1'!#REF!) | H30: SRSEV 1.1.1.3.07 | I30: Seguimiento a EES que cuentan con laboratorios con pruebas moleculares para el diagnóstico de TB (GeneXpert) y verifiación de la certificación de las cabinas de bioseguridad | L30: 1 | P30: 1 | S30: 1 | V30: =SUM('Formulario PPGR2'!$J30:$U30) -> 3 | W30: Informe | X30: Listado de participación | Y30: captura de envío a DLI | Z30: Laboratorios e Imágenes
B31: =IF('Formulario PPGR2'!$G31="","",CONCATENATE('Formulario PPGR2'!$C31,".",'Formulario PPGR2'!$D31,".",'Formulario PPGR2'!$E31,".",'Formulario PPGR2'!$F31)) | C31: =IF('Formulario PPGR2'!$G31="","",'Formulario PPGR1'!#REF!) | D31: =IF('Formulario PPGR2'!$G31="","",'Formulario PPGR1'!#REF!) | E31: =IF('Formulario PPGR2'!$G31="","",'Formulario PPGR1'!#REF!) | F31: =IF('Formulario PPGR2'!$G31="","",'Formulario PPGR1'!#REF!) | H31: SRSEV 1.1.1.3.08 | I31: Supervisión de los servicios de laboratorio e imágenes para disminuir la mortalidad materno infantil en los EES | K31: 1 | M31: 1 | O31: 1 | Q31: 1 | S31: 1 | V31: =SUM('Formulario PPGR2'!$J31:$U31) -> 5 | W31: Informe | X31: Listado de participación | Y31: captura de envío a DLI | Z31: Laboratorios e Imágenes
B32: =IF('Formulario PPGR2'!$G32="","",CONCATENATE('Formulario PPGR2'!$C32,".",'Formulario PPGR2'!$D32,".",'Formulario PPGR2'!$E32,".",'Formulario PPGR2'!$F32)) | C32: =IF('Formulario PPGR2'!$G32="","",'Formulario PPGR1'!#REF!) | D32: =IF('Formulario PPGR2'!$G32="","",'Formulario PPGR1'!#REF!) | E32: =IF('Formulario PPGR2'!$G32="","",'Formulario PPGR1'!#REF!) | F32: =IF('Formulario PPGR2'!$G32="","",'Formulario PPGR1'!#REF!) | H32: SRSEV 1.1.1.3.09 | I32: Supervisión de los laboratorios de microbiologia en los EES materno infantil para verificar la certificación de cabinas de bioseguridad | K32: 1 | M32: 1 | O32: 1 | Q32: 1 | S32: 1 | V32: =SUM('Formulario PPGR2'!$J32:$U32) -> 5 | W32: Listado de participación | X32: Otros | Y32: Formulario de Seguimiento. Captura de envío | Z32: Laboratorios e Imágenes
B33: =IF('Formulario PPGR2'!$G33="","",CONCATENATE('Formulario PPGR2'!$C33,".",'Formulario PPGR2'!$D33,".",'Formulario PPGR2'!$E33,".",'Formulario PPGR2'!$F33)) | C33: =IF('Formulario PPGR2'!$G33="","",'Formulario PPGR1'!#REF!) | D33: =IF('Formulario PPGR2'!$G33="","",'Formulario PPGR1'!#REF!) | E33: =IF('Formulario PPGR2'!$G33="","",'Formulario PPGR1'!#REF!) | F33: =IF('Formulario PPGR2'!$G33="","",'Formulario PPGR1'!#REF!) | H33: SRSEV 1.1.1.3.10 | I33: Visita de supervisión a los EES para verificar el cumplimiento de las acciones para el diagnóstico de malaria | M33: 1 | Q33: 1 | V33: =SUM('Formulario PPGR2'!$J33:$U33) -> 2 | W33: Informe | X33: Listado de participación | Y33: captura de envío a DLI | Z33: Laboratorios e Imágenes
B34: =IF('Formulario PPGR2'!$G34="","",CONCATENATE('Formulario PPGR2'!$C34,".",'Formulario PPGR2'!$D34,".",'Formulario PPGR2'!$E34,".",'Formulario PPGR2'!$F34)) | C34: =IF('Formulario PPGR2'!$G34="","",'Formulario PPGR1'!#REF!) | D34: =IF('Formulario PPGR2'!$G34="","",'Formulario PPGR1'!#REF!) | E34: =IF('Formulario PPGR2'!$G34="","",'Formulario PPGR1'!#REF!) | F34: =IF('Formulario PPGR2'!$G34="","",'Formulario PPGR1'!#REF!) | H34: SRSEV 1.1.1.3.11 | I34: Implementar el plan de capacitación al personal de laboratorios clínicos, imágenes y los servicios transfuncionales en EES | L34: 1 | N34: 1 | P34: 1 | R34: 1 | V34: =SUM('Formulario PPGR2'!$J34:$U34) -> 4 | W34: Agenda | X34: Listado de participación | Y34: captura de envío a DLI | Z34: Laboratorios e Imágenes
B35: =IF('Formulario PPGR2'!$G35="","",CONCATENATE('Formulario PPGR2'!$C35,".",'Formulario PPGR2'!$D35,".",'Formulario PPGR2'!$E35,".",'Formulario PPGR2'!$F35)) | C35: =IF('Formulario PPGR2'!$G35="","",'Formulario PPGR1'!#REF!) | D35: =IF('Formulario PPGR2'!$G35="","",'Formulario PPGR1'!#REF!) | E35: =IF('Formulario PPGR2'!$G35="","",'Formulario PPGR1'!#REF!) | F35: =IF('Formulario PPGR2'!$G35="","",'Formulario PPGR1'!#REF!) | H35: SRSEV 1.1.1.3.12 | I35: Seguimiento al reporte mensual del INFOLAB en los EES | J35: 1 | K35: 1 | L35: 1 | M35: 1 | N35: 1 | O35: 1 | P35: 1 | Q35: 1 | R35: 1 | S35: 1 | T35: 1 | U35: 1 | V35: =SUM('Formulario PPGR2'!$J35:$U35) -> 12 | W35: Reporte | X35: Otros | Y35: captura de envío | Z35: Laboratorios e Imágenes | AA35: Reporte EES a los SRS Reporte a los SRS a DLI
H36: SRSEV 1.1.1.3.13 | I36: Taller de proteccion radiologica para el personal de Rayos X | K36: 1 | V36: 1 | W36: Listado de participación | X36: Agenda | Z36: Laboratorios e Imágenes
H37: SRSEV 1.1.1.3.14 | I37: Taller de Flebotomia para el personal de Banco de Sangre | L37: 1 | W37: Listado de participación | X37: Agenda | Z37: Laboratorios e Imágenes
B38: =IF('Formulario PPGR2'!$G38="","",CONCATENATE('Formulario PPGR2'!$C38,".",'Formulario PPGR2'!$D38,".",'Formulario PPGR2'!$E38,".",'Formulario PPGR2'!$F38)) | C38: =IF('Formulario PPGR2'!$G38="","",'Formulario PPGR1'!#REF!) | D38: =IF('Formulario PPGR2'!$G38="","",'Formulario PPGR1'!#REF!) | E38: =IF('Formulario PPGR2'!$G38="","",'Formulario PPGR1'!#REF!) | F38: =IF('Formulario PPGR2'!$G38="","",'Formulario PPGR1'!#REF!) | H38: SRSEV 1.1.1.3.15 | I38: Supervision a EESS para verificar las acciones de bioseguridad y radioproteccion en los servicios de laboratorios clinicos e imágenes | L38: 2 | M38: 2 | N38: 2 | P38: 2 | Q38: 2 | R38: 2 | V38: =SUM('Formulario PPGR2'!$J38:$U38) -> 12 | W38: Listado de participación | X38: Informe | Z38: Laboratorios e Imágenes
B39: =IF('Formulario PPGR2'!$G39="","",CONCATENATE('Formulario PPGR2'!$C39,".",'Formulario PPGR2'!$D39,".",'Formulario PPGR2'!$E39,".",'Formulario PPGR2'!$F39)) -> #REF! | C39: =IF('Formulario PPGR2'!$G39="","",'Formulario PPGR1'!#REF!) -> #REF! | D39: =IF('Formulario PPGR2'!$G39="","",'Formulario PPGR1'!#REF!) -> #REF! | E39: =IF('Formulario PPGR2'!$G39="","",'Formulario PPGR1'!#REF!) -> #REF! | F39: =IF('Formulario PPGR2'!$G39="","",'Formulario PPGR1'!#REF!) -> #REF! | G39: 1.1.2.1 Aumento de la provisión de servicios de salud sexual y reproductiva en la Red SNS | H39: SRSEV 1.1.2.1.01 | I39: Seguimiento Planificacion Post Evento Obstétrico en los hospitales priorizados | J39: 1 | K39: 1 | L39: 1 | M39: 1 | N39: 1 | O39: 1 | P39: 1 | Q39: 1 | R39: 1 | S39: 1 | T39: 1 | U39: 1 | V39: =SUM('Formulario PPGR2'!$J39:$U39) -> 12 | W39: Informe | Z39: Materno, Infantil y Adolescentes
B40: =IF('Formulario PPGR2'!$G40="","",CONCATENATE('Formulario PPGR2'!$C40,".",'Formulario PPGR2'!$D40,".",'Formulario PPGR2'!$E40,".",'Formulario PPGR2'!$F40)) | C40: =IF('Formulario PPGR2'!$G40="","",'Formulario PPGR1'!#REF!) | D40: =IF('Formulario PPGR2'!$G40="","",'Formulario PPGR1'!#REF!) | E40: =IF('Formulario PPGR2'!$G40="","",'Formulario PPGR1'!#REF!) | F40: =IF('Formulario PPGR2'!$G40="","",'Formulario PPGR1'!#REF!) | H40: SRSEV 1.1.2.1.02 | I40: Seguimiento a la planificación en las personas adolescentes en los CEAS | J40: 1 | K40: 1 | L40: 1 | M40: 1 | N40: 1 | O40: 1 | P40: 1 | Q40: 1 | R40: 1 | S40: 1 | T40: 1 | U40: 1 | V40: =SUM('Formulario PPGR2'!$J40:$U40) -> 12 | W40: Reporte | Y40: Un reporte del trimestre | Z40: Materno, Infantil y Adolescentes
B41: =IF('Formulario PPGR2'!$G41="","",CONCATENATE('Formulario PPGR2'!$C41,".",'Formulario PPGR2'!$D41,".",'Formulario PPGR2'!$E41,".",'Formulario PPGR2'!$F41)) | C41: =IF('Formulario PPGR2'!$G41="","",'Formulario PPGR1'!#REF!) | D41: =IF('Formulario PPGR2'!$G41="","",'Formulario PPGR1'!#REF!) | E41: =IF('Formulario PPGR2'!$G41="","",'Formulario PPGR1'!#REF!) | F41: =IF('Formulario PPGR2'!$G41="","",'Formulario PPGR1'!#REF!) | H41: SRSEV 1.1.2.1.03 | I41: Capacitación sobre métodos anticonceptivos al personal de la Unidades de Atención Integral y de consultas diferenciadas para adolescentes | K41: 1 | O41: 1 | T41: 1 | V41: =SUM('Formulario PPGR2'!$J41:$U41) -> 3 | W41: Minuta | X41: Listado de participación | Z41: Materno, Infantil y Adolescentes
B42: =IF('Formulario PPGR2'!$G42="","",CONCATENATE('Formulario PPGR2'!$C42,".",'Formulario PPGR2'!$D42,".",'Formulario PPGR2'!$E42,".",'Formulario PPGR2'!$F42)) -> #REF! | C42: =IF('Formulario PPGR2'!$G42="","",'Formulario PPGR1'!#REF!) -> #REF! | D42: =IF('Formulario PPGR2'!$G42="","",'Formulario PPGR1'!#REF!) -> #REF! | E42: =IF('Formulario PPGR2'!$G42="","",'Formulario PPGR1'!#REF!) -> #REF! | F42: =IF('Formulario PPGR2'!$G42="","",'Formulario PPGR1'!#REF!) -> #REF! | G42: 1.1.2.2 Provisión de servicios de Salud Materno, Infantil y Adolescentes de Calidad | H42: SRSEV 1.1.2.2.01 | I42: Adecuación de los planes de mejora de la metodología de Observación de la Práctica Clínica (OPC) según resultados del monitoreo de calidad de los servicios en CEAS priorizados | M42: 1 | R42: 1 | V42: =SUM('Formulario PPGR2'!$J42:$U42) -> 2 | W42: Plan | Z42: Materno, Infantil y Adolescentes
B43: =IF('Formulario PPGR2'!$G43="","",CONCATENATE('Formulario PPGR2'!$C43,".",'Formulario PPGR2'!$D43,".",'Formulario PPGR2'!$E43,".",'Formulario PPGR2'!$F43)) | C43: =IF('Formulario PPGR2'!$G43="","",'Formulario PPGR1'!#REF!) | D43: =IF('Formulario PPGR2'!$G43="","",'Formulario PPGR1'!#REF!) | E43: =IF('Formulario PPGR2'!$G43="","",'Formulario PPGR1'!#REF!) | F43: =IF('Formulario PPGR2'!$G43="","",'Formulario PPGR1'!#REF!) | H43: SRSEV 1.1.2.2.02 | I43: Análisis de los indicadores maternos-neonatales de la Sala Situacional de los CEAS | L43: 1 | O43: 1 | R43: 1 | U43: 1 | V43: =SUM('Formulario PPGR2'!$J43:$U43) -> 4 | W43: Informe | Z43: Materno, Infantil y Adolescentes
...

Sheet Formulario PPGR3
S1: Venta Servicios
I2: ='[3]Formulario PPGR1'!G2 -> Servicio Nacional de Salud
I3: ='[3]Formulario PPGR1'!G3 -> Dirección de Planificación y Desarrollo
I4: ='[3]Formulario PPGR1'!G4 -> Plan Operativo Anual
I5: Identificación de necesidades de insumos
I6: ='[3]Formulario PPGR1'!$M$3 -> SNS - Dirección Central
B8: ID_Dependendencia | C8: POA | D8: SRS | E8: AREA | F8: TIPO | G8: Código_Actividad | H8: Actividad | I8: Total de Actividades | J8: Insumos | K8: InsumoAbrev | L8: Descripción | M8: Unidad de Medida | N8: Cantidad de Insumos | O8: Precio Unitario | P8: Valor Total | Q8: Código Presupuestario | R8: Fuente de Financiamiento
B9: =IF('Formulario PPGR3'!$G9="","",CONCATENATE('Formulario PPGR3'!$C9,".",'Formulario PPGR3'!$D9,".",'Formulario PPGR3'!$E9,".",'Formulario PPGR3'!$F9)) -> #REF! | C9: =IF('Formulario PPGR3'!$G9="","",'[3]Formulario PPGR1'!#REF!) -> #REF! | D9: =IF('Formulario PPGR3'!$G9="","",'[3]Formulario PPGR1'!#REF!) -> #REF! | E9: =IF('Formulario PPGR3'!$G9="","",'[3]Formulario PPGR1'!#REF!) -> #REF! | F9: =IF('Formulario PPGR3'!$G9="","",'[3]Formulario PPGR1'!#REF!) -> #REF! | G9: SRSEV 1.1.1.1.01 | H9: =IFERROR(VLOOKUP('Formulario PPGR3'!$G9,'Formulario PPGR2'!$H$39:$I$10486,2,FALSE),"") | I9: =IFERROR(VLOOKUP('Formulario PPGR3'!$G9,'Formulario PPGR2'!$H$9:$V$303,15,FALSE),"") -> 2 | J9: Alimentos y bebidas para personas | K9: =IFERROR(VLOOKUP($J9,[4]LSIns!$B$5:$C$45,2,FALSE),"") -> lsAlimentosyBebidas | L9: Almuerzo tipo Buffet para 40 personas (Cristalería, Cuberteria, Mesas, Sillas, Manteles, Servilletas) | M9: =IFERROR(VLOOKUP($L9,[5]Insumos!$C$2:$F$517,2,FALSE),"") -> unidad | N9: 3 | O9: =IFERROR(VLOOKUP($L9,[5]Insumos!$C$2:$F$517,3,FALSE),"") -> 61419 | P9: =+'Formulario PPGR3'!$O9*'Formulario PPGR3'!$N9 -> 184257 | Q9: =IFERROR(VLOOKUP($L9,[5]Insumos!$C$2:$F$517,4,FALSE),"") -> 2.3.1.1.01 | R9: Venta de servicios
