Workbook
Name Azua: Prov!$C$3:$C$12
Name Bahoruco: Prov!$C$13:$C$17
Name Barahona: Prov!$C$18:$C$28
Name CodigoActividad: [1]!Tabla2[Código]
Name CodigoActividad: Tabla2[Código]
Name Dajabon: Prov!$C$29:$C$33
Name Dajabón: Prov!$C$29:$C$33
Name Distrito_Nacional: Prov!$C$2
Name Duarte: Prov!$C$34:$C$40
Name El_Seibo: Prov!$C$41:$C$42
Name Elias_Pina: Prov!$C$43:$C$48
Name Elías_Piña: Prov!$C$43:$C$48
Name Espaillat: Prov!$C$49:$C$52
Name Hato_Mayor: Prov!$C$53:$C$55
Name Hermanas_Mirabal: Prov!$C$56:$C$58
Name Independencia: Prov!$C$59:$C$64
Name La_Altagracia: Prov!$C$65:$C$66
Name La_Romana: Prov!$C$67:$C$69
Name La_Vega: Prov!$C$70:$C$73
Name Le.1: Obj!$D$132:$D$141
Name Le.2: Obj!$D$142:$D$143
Name Le.3: Obj!$D$144:$D$146
Name Le.4: Obj!$D$147
Name ls_ComprayAlquiler: Catalogo!$G$33:$G$41
Name ls_Departamento: Catalogo!$D$36:$D$68
Name Ls_DepartamentosSRS: Catalogo!$G$130:$G$146
Name Ls_DependenciasSRS: Catalogo!$B$97:$B$102
Name ls_Direccion: Catalogo!$D$32:$D$33
Name Ls_DivisionesSRS: Catalogo!$E$105:$E$121
Name Ls_Estructura: Catalogo!$B$23:$B$28
Name Ls_GerenciasSRS: Catalogo!$E$124:$E$126
Name Ls_LinesEstategica: Obj!$B$6:$B$9
Name Ls_Medio_Verificacion: Catalogo!$B$152:$B$171
Name Ls_ObjEstrategico: Obj!$G$6:$G$21
Name Ls_Oficina: Catalogo!$D$87:$D$90
Name Ls_OficinasSRS: Catalogo!#REF!
Name ls_Regiones: Catalogo!$B$10:$B$19
Name ls_SubDireccion: Catalogo!$D$71:$D$80
Name ls_TiposAcciones: Catalogo!$G$11:$G$14
Name ls_UnidadesSRS: Catalogo!$B$105:$B$143
Name lsAcabadosTextiles: #REF!
Name lsAcabadosTextiles: #REF!
Name lsAireAcondicionado: #REF!
Name lsAireAcondicionado: #REF!
Name lsAlimentosyBebidas: #REF!
Name lsAlimentosyBebidas: #REF!
Name lsArticulosdePlastico: #REF!
Name lsArticulosdePlastico: #REF!
Name lsElectrodomesticos: #REF!
Name lsElectrodomesticos: #REF!
Name lsEquiposComputos: #REF!
Name lsEquiposComputos: #REF!
Name lsEquiposMedicos: #REF!
Name lsEquiposMedicos: #REF!
Name lsEquiposSeguridad: #REF!
Name lsEquiposSeguridad: #REF!
Name lsEquiposTransporte: #REF!
Name lsEquiposTransporte: #REF!
Name lsEventosGenerales: #REF!
Name lsEventosGenerales: #REF!

Sheet Resumen 
I1: Siglas Dependencias DC-SNS | K1: Siglas SRS | AB1: INSUMOS | AC1: Unidad de medidas
A2: Servicio Nacional de Salud | I2: Dirección Ejecutiva (DEJ) | K2: Servicio Regional de Salud Metropolitano (SRSM) | AB2: Abanico De Pared | AC2: Unidad
A3: Dirección de Planificación y Desarrollo | I3: Atención a Usuarios (DAU) | K3: Servicio Regional de Salud Valdesia (SRSV) | AB3: Abanico De Pedestal | AC3: Galon
I4: Comité Etica Pública (CEP) | K4: Servicio Regional de Salud Norcentral (SRSNC) | AB4: Acido Muriatico | AC4: Cilidros 100Lb/22Gl
A5: Cantidad acciones/actividades/trimestre | I5: Cooperación Internacional (COP) | K5: Servicio Regional de Salud Nordeste (SRSND) | AB5: Acido Urico | AC5: Talonario
A6: Primer Trimestre | B6: =Tabla2[[#Totals],[Ene]]+Tabla2[[#Totals],[Feb]]+Tabla2[[#Totals],[Mar]] -> 233 | I6: Calidad Institucional (DCI) | K6: Servicio Regional de Salud Enriquillo (SRSEN) | AB6: Adaptador Macho De 1/2 | AC6: Resma
A7: Segundo Trimestre | B7: =Tabla2[[#Totals],[Abr]]+Tabla2[[#Totals],[May]]+Tabla2[[#Totals],[Jun]] -> 267 | I7: Administración (DAD) | K7: Servicio Regional de Salud Este (SRSES) | AB7: Adaptador Macho Pvc 1 Pulg | AC7: Caja
A8: Tercer Trimestre | B8: =Tabla2[[#Totals],[Jul]]+Tabla2[[#Totals],[Ago]]+Tabla2[[#Totals],[Sep]] -> 237 | I8: Dirección Centros Hospitalarios (DCH) | K8: Servicio Regional de Salud El Valle (SRSEV) | AB8: Adaptador Macho Pvc 3/4 | AC8: Paquete 5Lbs
A9: Cuarto Trimestre | B9: =Tabla2[[#Totals],[Oct]]+Tabla2[[#Totals],[Nov]]+Tabla2[[#Totals],[Dic]] -> 229 | I9: Emergencia y Desastres (DED) | K9: Servicio Regional de Cibao Occidental (SRSCO) | AB9: Agua De Bateria | AC9: Rollos
A10: Total actividades del año 2020 | B10: =SUM(B6:B9) -> 966 | I10: Comunicación Estratégica (DCE) | K10: Servicio Regional de Salud Cibao Central (SRSCC) | AB10: Agua Destilada | AC10: Paquetes 100/1
I11: Financiero (DF) | AB11: Aguja De Sutura | AC11: Paquetes
I12: Gestión Humana (DGH) | AB12: Aire Acondicionado 18,000 Btu | AC12: Set De 100
I13: Infraestructura y Equipos (DIE) | AB13: Alambre Thhn No. 12 Negro | AC13: Paquete 1Lib.
A14: Tabla Resumen POA 2020 | I14: Consultoría Jurídica (DCJ) | AB14: Alambre Thhn No. 12 Rojo | AC14: Paquete 5Lib.
A15: Área Organizacional | B15: Presupuesto | C15: Nº Productos | D15: Nº Actividades | E15: % (Productos) | F15: % (Actividades) | G15: % (Presupuesto) | I15: Monitoreo y Evaluación (DME) | AB15: Alambre Thnn No. 12 Blanco | AC15: Pie
A16: Administrativo - Financiero | B16: 223147.5 | C16: 4 | D16: 11 | E16: =+C16/$C$35 -> 0.064516129 | F16: =+D16/$D$35 -> 0.041825095 | G16: =+B16/$B$35 -> 0.020884924 | I16: Planificación (DPD) | AB16: Alcohol Isopropilico | AC16: Casset De 40
A17: Primer Nivel (DPN) | B17: 5337556.8 | C17: 5 | D17: 50 | E17: =+C17/$C$35 -> 0.080645161 | F17: =+D17/$D$35 -> 0.19011407 | G17: =+B17/$B$35 -> 0.49955509 | I17: Dirección Primer Nivel (DPN) | AB17: Alfombras Para Baños | AC17: Caja/12
A18: Atención a Usuarios (DAU) | B18: 182678.6 | C18: 2 | D18: 16 | E18: =+C18/$C$35 -> 0.032258065 | F18: =+D18/$D$35 -> 0.060836502 | G18: =+B18/$B$35 -> 0.01709734 | I18: Asistencia a la Red (DAR) | AB18: Alicate | AC18: Capsula /500
A19: Calidad Servicios de Salud (CSS) | B19: 30800 | C19: 1 | D19: 5 | E19: =+C19/$C$35 -> 0.016129032 | F19: =+D19/$D$35 -> 0.019011407 | G19: =+B19/$B$35 -> 0.0028826479 | I19: Seguridad Física (DSF) | AB19: Alicate Articulado 12 Pulg. | AC19: Set De 200
A20: Dirección Centros Hospitalarios (DCH) | B20: 186265 | C20: 14 | D20: 21 | E20: =+C20/$C$35 -> 0.22580645 | F20: =+D20/$D$35 -> 0.079847909 | G20: =+B20/$B$35 -> 0.017433 | I20: Sistema de Información (DSI) | AB20: Alicate De Presion Curvo | AC20: Set De 100
A21: Control y Fiscalización (OCF) | B21: 64476.8 | C21: 1 | D21: 3 | E21: =+C21/$C$35 -> 0.016129032 | F21: =+D21/$D$35 -> 0.011406844 | G21: =+B21/$B$35 -> 0.0060345426 | I21: Tecnología (DTI) | AB21: Almuerzo | AC21: Frasco
A22: Emergencia y Desastres (DED) | B22: 47352.5 | C22: 4 | D22: 15 | E22: =+C22/$C$35 -> 0.064516129 | F22: =+D22/$D$35 -> 0.057034221 | G22: =+B22/$B$35 -> 0.0044318371 | I22: Calidad Servicios de Salud (CSS) | AB22: Almuerzo | AC22: Rollos
A23: Division Gestion Clinica | B23: 141127.5 | C23: 5 | D23: 13 | E23: =+C23/$C$35 -> 0.080645161 | F23: =+D23/$D$35 -> 0.049429658 | G23: =+B23/$B$35 -> 0.01320847 | I23: Materno-Infantil (MIA) | AB23: Amalgama | AC23: Caja/50
A24: Sistema de Información (DSI) | B24: 181230.5 | C24: 5 | D24: 13 | E24: =+C24/$C$35 -> 0.080645161 | F24: =+D24/$D$35 -> 0.049429658 | G24: =+B24/$B$35 -> 0.016961809 | I24: OAI | AB24: Ambientador | AC24: Noche
A25: Gestión Humana (DGH) | B25: 2030200 | C25: 6 | D25: 13 | E25: =+C25/$C$35 -> 0.096774194 | F25: =+D25/$D$35 -> 0.049429658 | G25: =+B25/$B$35 -> 0.19001142 | I25: Control y Fiscalización (OCF) | AB25: Ambientador Elect. Con 2 Aromas | AC25: Faldo/20U/D
A26: Infraestructura y Equipos (DIE) | B26: 102760 | C26: 1 | D26: 4 | E26: =+C26/$C$35 -> 0.016129032 | F26: =+D26/$D$35 -> 0.015209125 | G26: =+B26/$B$35 -> 0.0096175616 | I26: Odontología (ODO) | AB26: Anestesia 2%
A27: Materno-Infantil (MIA) | B27: 114530 | C27: 1 | D27: 18 | E27: =+C27/$C$35 -> 0.016129032 | F27: =+D27/$D$35 -> 0.068441065 | G27: =+B27/$B$35 -> 0.010719145 | I27: Pasantía Médica (PSM) | AB27: Anestesia 3%
A28: Servicios Diagnósticos y Sangre (SDS) | B28: 52378.6 | C28: 1 | D28: 8 | E28: =+C28/$C$35 -> 0.016129032 | F28: =+D28/$D$35 -> 0.030418251 | G28: =+B28/$B$35 -> 0.0049022422 | I28: Servicios Diagnósticos y Sangre (SDS) | AB28: Anti A
A29: Odontología (ODO) | B29: 629427.05 | C29: 1 | D29: 11 | E29: =+C29/$C$35 -> 0.016129032 | F29: =+D29/$D$35 -> 0.041825095 | G29: =+B29/$B$35 -> 0.058909628 | I29: Medicamentos e Insumos (DMI) | AB29: Anti B
A30: OAI | B30: 26990 | C30: 2 | D30: 14 | E30: =+C30/$C$35 -> 0.032258065 | F30: =+D30/$D$35 -> 0.053231939 | G30: =+B30/$B$35 -> 0.0025260606 | AB30: Anti C
A31: Tecnología (DTI) | B31: 512273.7 | C31: 2 | D31: 12 | E31: =+C31/$C$35 -> 0.032258065 | F31: =+D31/$D$35 -> 0.045627376 | G31: =+B31/$B$35 -> 0.047944958
A32: Medicamentos e Insumos (DMI) | B32: 117401 | C32: 1 | D32: 10 | E32: =+C32/$C$35 -> 0.016129032 | F32: =+D32/$D$35 -> 0.038022814 | G32: =+B32/$B$35 -> 0.010987849
A33: Planificación y Desarrollo | B33: 681834.3 | C33: 5 | D33: 18 | E33: =+C33/$C$35 -> 0.080645161 | F33: =+D33/$D$35 -> 0.068441065 | G33: =+B33/$B$35 -> 0.063814552
A34: Equidad de Genero y Salud Mental | B34: 22191.1 | C34: 1 | D34: 8 | E34: =+C34/$C$35 -> 0.016129032 | F34: =+D34/$D$35 -> 0.030418251 | G34: =+B34/$B$35 -> 0.0020769197
A35: Total | B35: =SUM(B16:B34) -> 10684621 | C35: =SUM(C16:C34) -> 62 | D35: =SUM(D16:D34) -> 263 | E35: =SUM(E16:E34) -> 1 | F35: =SUM(F16:F34) -> 1 | G35: =SUM(G16:G34) -> 1 | AB35: Anti D
AB36: Anticoagulante
AB37: Aplicadores De Madera
AB38: Archivo De Metal 4 Gavetas 8 1/2 X 11
AB39: Archivo Modular De 3 Gavetas
AB40: Armario De Metal
...

Sheet Formulario PPGR1
H2: Servicio Nacional de Salud | M2: Año del POA: | N2: 2020
H3: Dirección de Planificación y Desarrollo | M3: Servicio Regional de Salud: | N3: R6 - SRS El Valle | V3: =VLOOKUP(N3,Catalogo!$B$10:$C$19,2,FALSE) -> Ls_DependenciasSRS
M4: Estructura: | N4: Gerencia | V4: =IF(V3="Ls_Estructura",VLOOKUP(N4,Catalogo!B23:C27,2,FALSE),VLOOKUP(N4,Catalogo!$B$97:$C$101,2,FALSE)) -> Ls_GerenciasSRS
H5: Identificación de Productos/Resultados | M5: =IF(V3="Ls_Estructura",VLOOKUP($N$4,Catalogo!$B$23:$D$28,3,FALSE),VLOOKUP($N$4,Catalogo!$B$97:$D$101,3,FALSE)) -> Gerencias: | N5: Regional (Consolidado)
B8: Prioridades Directivas | C8: POA | D8: SRS | E8: AREA | F8: TIPO | G8: Línea estratégica | H8: Cod_LE | I8: Objetivo | J8: Cod_Obj | K8: Resultado esperado | L8: Productos | M8: Indicador | N8: Unidad de medida | O8: Línea Base | P8: Meta | Q8: 1er. Trimestre | R8: 2do. Trimestre | S8: 3er. Trimestre | T8: 4to. Trimestre | U8: Supuestos | V8: Dependencia responsable
B9: Gestión y Control de la Planificación Institucional | C9: =IF(Tabla3[[#This Row],[Línea estratégica]]="","",#REF!) -> #REF! | D9: =IF(Tabla3[[#This Row],[Línea estratégica]]="","",#REF!) -> #REF! | E9: =IF(Tabla3[[#This Row],[Línea estratégica]]="","",#REF!) -> #REF! | F9: =IF(Tabla3[[#This Row],[Línea estratégica]]="","",#REF!) -> #REF! | G9: Le.1 - Fortalecer las capacidades gestoras institucionales del SNS a través de la implementación del Modelo de Gestión, del desarrollo de su organización funcional y de las capacidades e instrumentos necesarios en cada ámbito de gestión | H9: =IFERROR(VLOOKUP(Tabla3[[#This Row],[Línea estratégica]],Obj!$B$57:$C$90,2,FALSE),"") -> Le.1 | I9: Obj1.1 - Definir e implementar un modelo organizativo funcional en el Nivel Central del SNS | J9: =IFERROR(VLOOKUP($I9,Obj!$D$132:$E$147,2,FALSE),"") -> Obj1.1 | K9: Gestión Administrativa y Estratégica fortalecida | L9: 1.1.3.1 Fortalecimiento de la Planificación Institucional | Y9: Desarrollo y Gestión de la Red de Servicios
B10: Gestión y Control de la Planificación Institucional | C10: =IF(Tabla3[[#This Row],[Línea estratégica]]="","",#REF!) -> #REF! | D10: =IF(Tabla3[[#This Row],[Línea estratégica]]="","",#REF!) -> #REF! | E10: =IF(Tabla3[[#This Row],[Línea estratégica]]="","",#REF!) -> #REF! | F10: =IF(Tabla3[[#This Row],[Línea estratégica]]="","",#REF!) -> #REF! | G10: Le.1 - Fortalecer las capacidades gestoras institucionales del SNS a través de la implementación del Modelo de Gestión, del desarrollo de su organización funcional y de las capacidades e instrumentos necesarios en cada ámbito de gestión | H10: =IFERROR(VLOOKUP(Tabla3[[#This Row],[Línea estratégica]],Obj!$B$57:$C$90,2,FALSE),"") -> Le.1 | I10: Obj1.1 - Definir e implementar un modelo organizativo funcional en el Nivel Central del SNS | J10: =IFERROR(VLOOKUP($I10,Obj!$D$132:$E$147,2,FALSE),"") -> Obj1.1 | K10: Gestión Administrativa y Estratégica fortalecida | L10: 1.1.3.2 Modelo de Gestión de Calidad Intitucional | Y10: Transparencia Institucional
B11: Gestión y Control de la Planificación Institucional | C11: =IF(Tabla3[[#This Row],[Línea estratégica]]="","",#REF!) -> #REF! | D11: =IF(Tabla3[[#This Row],[Línea estratégica]]="","",#REF!) -> #REF! | E11: =IF(Tabla3[[#This Row],[Línea estratégica]]="","",#REF!) -> #REF! | F11: =IF(Tabla3[[#This Row],[Línea estratégica]]="","",#REF!) -> #REF! | G11: Le.1 - Fortalecer las capacidades gestoras institucionales del SNS a través de la implementación del Modelo de Gestión, del desarrollo de su organización funcional y de las capacidades e instrumentos necesarios en cada ámbito de gestión | H11: =IFERROR(VLOOKUP(Tabla3[[#This Row],[Línea estratégica]],Obj!$B$57:$C$90,2,FALSE),"") -> Le.1 | I11: Obj1.1 - Definir e implementar un modelo organizativo funcional en el Nivel Central del SNS | J11: =IFERROR(VLOOKUP($I11,Obj!$D$132:$E$147,2,FALSE),"") -> Obj1.1 | K11: Gestión Administrativa y Estratégica fortalecida | L11: 1.1.3.3 Gestión documental de procesos institucionales | Y11: Gestión Integral de Información
B12: Gestión y Control de la Planificación Institucional | C12: =IF(Tabla3[[#This Row],[Línea estratégica]]="","",#REF!) -> #REF! | D12: =IF(Tabla3[[#This Row],[Línea estratégica]]="","",#REF!) -> #REF! | E12: =IF(Tabla3[[#This Row],[Línea estratégica]]="","",#REF!) -> #REF! | F12: =IF(Tabla3[[#This Row],[Línea estratégica]]="","",#REF!) -> #REF! | G12: Le.1 - Fortalecer las capacidades gestoras institucionales del SNS a través de la implementación del Modelo de Gestión, del desarrollo de su organización funcional y de las capacidades e instrumentos necesarios en cada ámbito de gestión | H12: =IFERROR(VLOOKUP(Tabla3[[#This Row],[Línea estratégica]],Obj!$B$57:$C$90,2,FALSE),"") -> Le.1 | I12: Obj1.1 - Definir e implementar un modelo organizativo funcional en el Nivel Central del SNS | J12: =IFERROR(VLOOKUP($I12,Obj!$D$132:$E$147,2,FALSE),"") -> Obj1.1 | K12: Gestión Administrativa y Estratégica fortalecida | L12: 1.1.3.4 Implementación del Modelo de Gestión | Y12: Gestión y Control de la Planificación Institucional
B13: Gestión y Control de la Planificación Institucional | C13: =IF(Tabla3[[#This Row],[Línea estratégica]]="","",#REF!) -> #REF! | D13: =IF(Tabla3[[#This Row],[Línea estratégica]]="","",#REF!) -> #REF! | E13: =IF(Tabla3[[#This Row],[Línea estratégica]]="","",#REF!) -> #REF! | F13: =IF(Tabla3[[#This Row],[Línea estratégica]]="","",#REF!) -> #REF! | G13: Le.1 - Fortalecer las capacidades gestoras institucionales del SNS a través de la implementación del Modelo de Gestión, del desarrollo de su organización funcional y de las capacidades e instrumentos necesarios en cada ámbito de gestión | H13: =IFERROR(VLOOKUP(Tabla3[[#This Row],[Línea estratégica]],Obj!$B$57:$C$90,2,FALSE),"") -> Le.1 | I13: Obj1.10 - Fortalecer el sistema de monitoreo y evaluación, para la toma de decisiones basado en información de calidad y acorde a los objetivos propuestos. | J13: =IFERROR(VLOOKUP($I13,Obj!$D$132:$E$147,2,FALSE),"") -> Obj1.10 | K13: Monitoreados los objetivos propuestos y definidos los alcances de cumplimiento. | L13: 1.10.2.1Desarrollo de un Sistema de Monitoreo de la calidad del servicio | Y13: Promoción y Cultura de Innovación
B14: Gestión y Control de la Planificación Institucional | C14: =IF(Tabla3[[#This Row],[Línea estratégica]]="","",#REF!) -> #REF! | D14: =IF(Tabla3[[#This Row],[Línea estratégica]]="","",#REF!) -> #REF! | E14: =IF(Tabla3[[#This Row],[Línea estratégica]]="","",#REF!) -> #REF! | F14: =IF(Tabla3[[#This Row],[Línea estratégica]]="","",#REF!) -> #REF! | G14: Le.1 - Fortalecer las capacidades gestoras institucionales del SNS a través de la implementación del Modelo de Gestión, del desarrollo de su organización funcional y de las capacidades e instrumentos necesarios en cada ámbito de gestión | H14: =IFERROR(VLOOKUP(Tabla3[[#This Row],[Línea estratégica]],Obj!$B$57:$C$90,2,FALSE),"") -> Le.1 | I14: Obj1.6 - Fortalecer los sistemas de información existentes en todos los niveles del SNS para apoyar la gestión para resultados | J14: =IFERROR(VLOOKUP($I14,Obj!$D$132:$E$147,2,FALSE),"") -> Obj1.6 | K14: Régimen de auditoria de calidad de la información implementado | L14: 1.6.3.1Protocolo Auditoría Calidad del Dato | Y14: Disminución de la Mortalidad Materna e Infantil
B15: Gestión y Control de la Planificación Institucional | C15: =IF(Tabla3[[#This Row],[Línea estratégica]]="","",#REF!) -> #REF! | D15: =IF(Tabla3[[#This Row],[Línea estratégica]]="","",#REF!) -> #REF! | E15: =IF(Tabla3[[#This Row],[Línea estratégica]]="","",#REF!) -> #REF! | F15: =IF(Tabla3[[#This Row],[Línea estratégica]]="","",#REF!) -> #REF! | G15: Le.1 - Fortalecer las capacidades gestoras institucionales del SNS a través de la implementación del Modelo de Gestión, del desarrollo de su organización funcional y de las capacidades e instrumentos necesarios en cada ámbito de gestión | H15: =IFERROR(VLOOKUP(Tabla3[[#This Row],[Línea estratégica]],Obj!$B$57:$C$90,2,FALSE),"") -> Le.1 | I15: Obj1.6 - Fortalecer los sistemas de información existentes en todos los niveles del SNS para apoyar la gestión para resultados | J15: =IFERROR(VLOOKUP($I15,Obj!$D$132:$E$147,2,FALSE),"") -> Obj1.6 | K15: Estandarizados los instrumentos de recolección de datos de los establecimientos de salud y de las entidades administrativas de la red, que minimice la duplicidad de reportes e informes que emanen de los diferentes niveles | L15: 1.6.2.1Implementación del Expedientes Integral de Salud | Y15: Gestionar y fortalecer el Talento Humano
B16: Gestión y Control de la Planificación Institucional | C16: =IF(Tabla3[[#This Row],[Línea estratégica]]="","",#REF!) -> #REF! | D16: =IF(Tabla3[[#This Row],[Línea estratégica]]="","",#REF!) -> #REF! | E16: =IF(Tabla3[[#This Row],[Línea estratégica]]="","",#REF!) -> #REF! | F16: =IF(Tabla3[[#This Row],[Línea estratégica]]="","",#REF!) -> #REF! | G16: Le.1 - Fortalecer las capacidades gestoras institucionales del SNS a través de la implementación del Modelo de Gestión, del desarrollo de su organización funcional y de las capacidades e instrumentos necesarios en cada ámbito de gestión | H16: =IFERROR(VLOOKUP(Tabla3[[#This Row],[Línea estratégica]],Obj!$B$57:$C$90,2,FALSE),"") -> Le.1 | I16: Obj1.6 - Fortalecer los sistemas de información existentes en todos los niveles del SNS para apoyar la gestión para resultados | J16: =IFERROR(VLOOKUP($I16,Obj!$D$132:$E$147,2,FALSE),"") -> Obj1.6 | K16: Estandarizados los instrumentos de recolección de datos de los establecimientos de salud y de las entidades administrativas de la red, que minimice la duplicidad de reportes e informes que emanen de los diferentes niveles | L16: 1.6.2.2 Despliegue del Sistema de información de producción de servicios | Y16: Automatización Tecnológica
B17: Automatización Tecnológica | C17: =IF(Tabla3[[#This Row],[Línea estratégica]]="","",#REF!) -> #REF! | D17: =IF(Tabla3[[#This Row],[Línea estratégica]]="","",#REF!) -> #REF! | E17: =IF(Tabla3[[#This Row],[Línea estratégica]]="","",#REF!) -> #REF! | F17: =IF(Tabla3[[#This Row],[Línea estratégica]]="","",#REF!) -> #REF! | G17: Le.1 - Fortalecer las capacidades gestoras institucionales del SNS a través de la implementación del Modelo de Gestión, del desarrollo de su organización funcional y de las capacidades e instrumentos necesarios en cada ámbito de gestión | H17: =IFERROR(VLOOKUP(Tabla3[[#This Row],[Línea estratégica]],Obj!$B$57:$C$90,2,FALSE),"") -> Le.1 | I17: Obj1.6 - Fortalecer los sistemas de información existentes en todos los niveles del SNS para apoyar la gestión para resultados | J17: =IFERROR(VLOOKUP($I17,Obj!$D$132:$E$147,2,FALSE),"") -> Obj1.6 | K17: Adecuada infraestructura tecnología para dar respuestas a las demandas de los usuarios del nivel central del SNS | L17: 1.6.1.1Fortalecimiento de la estructura tecnológica de la Red SNS | Y17: Cultura de Servicios y Gestión de Usuarios
B18: Desarrollo y Gestión de la Red de Servicios | C18: =IF(Tabla3[[#This Row],[Línea estratégica]]="","",#REF!) -> #REF! | D18: =IF(Tabla3[[#This Row],[Línea estratégica]]="","",#REF!) -> #REF! | E18: =IF(Tabla3[[#This Row],[Línea estratégica]]="","",#REF!) -> #REF! | F18: =IF(Tabla3[[#This Row],[Línea estratégica]]="","",#REF!) -> #REF! | G18: Le.3 - Desarrollo de la red asistencial del SNS en coherencia con las políticas de Estado en materia de salud y el Modelo de Atención | H18: =IFERROR(VLOOKUP(Tabla3[[#This Row],[Línea estratégica]],Obj!$B$57:$C$90,2,FALSE),"") -> Le.3 | I18: Obj3.2 - Direccionar los recursos para apoyar la implementación del Modelo de Atención en la red de servicios | J18: =IFERROR(VLOOKUP($I18,Obj!$D$132:$E$147,2,FALSE),"") -> Obj3.2 | K18: Presupuestos priorizados Plan de Inversiones definido y planificado Flujos financieros a los SRS y a los niveles de atención coherentes con el Modelo y con la prioridad de fortalecer la Atención Primaria y el resto de áreas criticas | L18: 3.2.1.1 Mejora de la hostelería hospitalaria | Y18: Fortalecimiento de la Veeduría y participación social
B19: Desarrollo y Gestión de la Red de Servicios | C19: =IF(Tabla3[[#This Row],[Línea estratégica]]="","",#REF!) -> #REF! | D19: =IF(Tabla3[[#This Row],[Línea estratégica]]="","",#REF!) -> #REF! | E19: =IF(Tabla3[[#This Row],[Línea estratégica]]="","",#REF!) -> #REF! | F19: =IF(Tabla3[[#This Row],[Línea estratégica]]="","",#REF!) -> #REF! | G19: Le.1 - Fortalecer las capacidades gestoras institucionales del SNS a través de la implementación del Modelo de Gestión, del desarrollo de su organización funcional y de las capacidades e instrumentos necesarios en cada ámbito de gestión | H19: =IFERROR(VLOOKUP(Tabla3[[#This Row],[Línea estratégica]],Obj!$B$57:$C$90,2,FALSE),"") -> Le.1 | I19: Obj1.3 - Desarrollar e implementar un modelo económico y financiero que garantice la sostenibilidad de la Red de servicios incluyendo los Hospitales Autogestionados | J19: =IFERROR(VLOOKUP($I19,Obj!$D$132:$E$147,2,FALSE),"") -> Obj1.3 | K19: Racionalizado el uso de los recursos financieros y económicos (inventario, bienes y equipos) | L19: 1.3.2.1Implementación del Sistema de Administración de Bienes | Y19: Calidad de la Atención Clínica
B20: Desarrollo y Gestión de la Red de Servicios | C20: =IF(Tabla3[[#This Row],[Línea estratégica]]="","",#REF!) -> #REF! | D20: =IF(Tabla3[[#This Row],[Línea estratégica]]="","",#REF!) -> #REF! | E20: =IF(Tabla3[[#This Row],[Línea estratégica]]="","",#REF!) -> #REF! | F20: =IF(Tabla3[[#This Row],[Línea estratégica]]="","",#REF!) -> #REF! | G20: Le.1 - Fortalecer las capacidades gestoras institucionales del SNS a través de la implementación del Modelo de Gestión, del desarrollo de su organización funcional y de las capacidades e instrumentos necesarios en cada ámbito de gestión | H20: =IFERROR(VLOOKUP(Tabla3[[#This Row],[Línea estratégica]],Obj!$B$57:$C$90,2,FALSE),"") -> Le.1 | I20: Obj1.3 - Desarrollar e implementar un modelo económico y financiero que garantice la sostenibilidad de la Red de servicios incluyendo los Hospitales Autogestionados | J20: =IFERROR(VLOOKUP($I20,Obj!$D$132:$E$147,2,FALSE),"") -> Obj1.3 | K20: Incrementada la sostenibilidad financiera de la Red, mediante la implementación de un Modelo de Gestión Económico y Financiero que permita reducir las brechas entre los recursos y las necesidades | L20: 1.3.1.1Implementación de las NOBACI
B21: Desarrollo y Gestión de la Red de Servicios | C21: =IF(Tabla3[[#This Row],[Línea estratégica]]="","",#REF!) -> #REF! | D21: =IF(Tabla3[[#This Row],[Línea estratégica]]="","",#REF!) -> #REF! | E21: =IF(Tabla3[[#This Row],[Línea estratégica]]="","",#REF!) -> #REF! | F21: =IF(Tabla3[[#This Row],[Línea estratégica]]="","",#REF!) -> #REF! | G21: Le.1 - Fortalecer las capacidades gestoras institucionales del SNS a través de la implementación del Modelo de Gestión, del desarrollo de su organización funcional y de las capacidades e instrumentos necesarios en cada ámbito de gestión | H21: =IFERROR(VLOOKUP(Tabla3[[#This Row],[Línea estratégica]],Obj!$B$57:$C$90,2,FALSE),"") -> Le.1 | I21: Obj1.3 - Desarrollar e implementar un modelo económico y financiero que garantice la sostenibilidad de la Red de servicios incluyendo los Hospitales Autogestionados | J21: =IFERROR(VLOOKUP($I21,Obj!$D$132:$E$147,2,FALSE),"") -> Obj1.3 | K21: Incrementada la sostenibilidad financiera de la Red, mediante la implementación de un Modelo de Gestión Económico y Financiero que permita reducir las brechas entre los recursos y las necesidades | L21: 1.3.1.2 Fortalecimiento de la gestión financiera de la Red
B22: Transparencia Institucional | C22: =IF(Tabla3[[#This Row],[Línea estratégica]]="","",#REF!) -> #REF! | D22: =IF(Tabla3[[#This Row],[Línea estratégica]]="","",#REF!) -> #REF! | E22: =IF(Tabla3[[#This Row],[Línea estratégica]]="","",#REF!) -> #REF! | F22: =IF(Tabla3[[#This Row],[Línea estratégica]]="","",#REF!) -> #REF! | G22: Le.1 - Fortalecer las capacidades gestoras institucionales del SNS a través de la implementación del Modelo de Gestión, del desarrollo de su organización funcional y de las capacidades e instrumentos necesarios en cada ámbito de gestión | H22: =IFERROR(VLOOKUP(Tabla3[[#This Row],[Línea estratégica]],Obj!$B$57:$C$90,2,FALSE),"") -> Le.1 | I22: Obj1.2 - Actualizar e implementar el Modelo de Gestión del SNS en todos sus niveles y el Modelo de Red de los SRS | J22: =IFERROR(VLOOKUP($I22,Obj!$D$132:$E$147,2,FALSE),"") -> Obj1.2 | K22: Modelo de Red implementado y operando acorde a los lineamientos del Modelo de Gestión y del Modelo de Atención | L22: 1.2.1.1Portales de Transparencia de la Red SNS
B23: Calidad de la Atención Clínica | C23: =IF(Tabla3[[#This Row],[Línea estratégica]]="","",#REF!) -> #REF! | D23: =IF(Tabla3[[#This Row],[Línea estratégica]]="","",#REF!) -> #REF! | E23: =IF(Tabla3[[#This Row],[Línea estratégica]]="","",#REF!) -> #REF! | F23: =IF(Tabla3[[#This Row],[Línea estratégica]]="","",#REF!) -> #REF! | G23: Le.4 - Mejora de la provisión de los programas y acciones de salud colectiva, con enfoque en prevención y control de enfermedades evitables | H23: =IFERROR(VLOOKUP(Tabla3[[#This Row],[Línea estratégica]],Obj!$B$57:$C$90,2,FALSE),"") -> Le.4 | I23: Obj4.1 - Fortalecer y garantizar la provisión de servicios de los programas de salud colectiva que se brindan en los diferentes niveles de atención | J23: =IFERROR(VLOOKUP($I23,Obj!$D$132:$E$147,2,FALSE),"") -> Obj4.1 | K23: Mejorada la prestación de servicios a la población con TB mediante un abordaje integral y basado en la estrategia mundial “Fin de la Tuberculosis”, intensificando las intervenciones focalizadas en poblaciones clave y grupos de riesgo | L23: 4.1.4.1Fortalecimiento de los servicios de atención a pacientes con TB
B24: Calidad de la Atención Clínica | C24: =IF(Tabla3[[#This Row],[Línea estratégica]]="","",#REF!) -> #REF! | D24: =IF(Tabla3[[#This Row],[Línea estratégica]]="","",#REF!) -> #REF! | E24: =IF(Tabla3[[#This Row],[Línea estratégica]]="","",#REF!) -> #REF! | F24: =IF(Tabla3[[#This Row],[Línea estratégica]]="","",#REF!) -> #REF! | G24: Le.4 - Mejora de la provisión de los programas y acciones de salud colectiva, con enfoque en prevención y control de enfermedades evitables | H24: =IFERROR(VLOOKUP(Tabla3[[#This Row],[Línea estratégica]],Obj!$B$57:$C$90,2,FALSE),"") -> Le.4 | I24: Obj4.1 - Fortalecer y garantizar la provisión de servicios de los programas de salud colectiva que se brindan en los diferentes niveles de atención | J24: =IFERROR(VLOOKUP($I24,Obj!$D$132:$E$147,2,FALSE),"") -> Obj4.1 | K24: Garantizado el continuo de la atención para aumentar las expectativas de vida en personas que viven con VIH-SIDA mediante la correcta aplicación de las normas, guías y protocolos nacionales | L24: 4.1.2.1Fortalecimiento de los servicios de atención a pacientes con TB-VIH
B25: Calidad de la Atención Clínica | C25: =IF(Tabla3[[#This Row],[Línea estratégica]]="","",#REF!) -> #REF! | D25: =IF(Tabla3[[#This Row],[Línea estratégica]]="","",#REF!) -> #REF! | E25: =IF(Tabla3[[#This Row],[Línea estratégica]]="","",#REF!) -> #REF! | F25: =IF(Tabla3[[#This Row],[Línea estratégica]]="","",#REF!) -> #REF! | G25: Le.3 - Desarrollo de la red asistencial del SNS en coherencia con las políticas de Estado en materia de salud y el Modelo de Atención | H25: =IFERROR(VLOOKUP(Tabla3[[#This Row],[Línea estratégica]],Obj!$B$57:$C$90,2,FALSE),"") -> Le.3 | I25: Obj3.3 - Desarrollar una cartera de servicios estandarizada y de acuerdo al modelo de atención en los centros de salud, con igual capacidad resolutiva | J25: =IFERROR(VLOOKUP($I25,Obj!$D$132:$E$147,2,FALSE),"") -> Obj3.3 | K25: Fortalecido el acceso a la atención, mediante una cartera de servicios que responda a las necesidades de salud de la población, priorizando los grupos más vulnerables | L25: 3.3.1.1Acceso a Servicios Diagnósticos y Gestión de Sangre Segura
B26: Disminución de la Mortalidad Materna e Infantil | C26: =IF(Tabla3[[#This Row],[Línea estratégica]]="","",#REF!) -> #REF! | D26: =IF(Tabla3[[#This Row],[Línea estratégica]]="","",#REF!) -> #REF! | E26: =IF(Tabla3[[#This Row],[Línea estratégica]]="","",#REF!) -> #REF! | F26: =IF(Tabla3[[#This Row],[Línea estratégica]]="","",#REF!) -> #REF! | G26: Le.4 - Mejora de la provisión de los programas y acciones de salud colectiva, con enfoque en prevención y control de enfermedades evitables | H26: =IFERROR(VLOOKUP(Tabla3[[#This Row],[Línea estratégica]],Obj!$B$57:$C$90,2,FALSE),"") -> Le.4 | I26: Obj4.1 - Fortalecer y garantizar la provisión de servicios de los programas de salud colectiva que se brindan en los diferentes niveles de atención | J26: =IFERROR(VLOOKUP($I26,Obj!$D$132:$E$147,2,FALSE),"") -> Obj4.1 | K26: Mejorada la cobertura y calidad en materia de salud sexual-reproductiva en todos los niveles de atención con énfasis en la atención materno-perinatal, infantil y adolescente | L26: 4.1.3.1Despliegue Inicativa Madre y Bebé bien cuidados
B27: Disminución de la Mortalidad Materna e Infantil | C27: =IF(Tabla3[[#This Row],[Línea estratégica]]="","",#REF!) -> #REF! | D27: =IF(Tabla3[[#This Row],[Línea estratégica]]="","",#REF!) -> #REF! | E27: =IF(Tabla3[[#This Row],[Línea estratégica]]="","",#REF!) -> #REF! | F27: =IF(Tabla3[[#This Row],[Línea estratégica]]="","",#REF!) -> #REF! | G27: Le.4 - Mejora de la provisión de los programas y acciones de salud colectiva, con enfoque en prevención y control de enfermedades evitables | H27: =IFERROR(VLOOKUP(Tabla3[[#This Row],[Línea estratégica]],Obj!$B$57:$C$90,2,FALSE),"") -> Le.4 | I27: Obj4.1 - Fortalecer y garantizar la provisión de servicios de los programas de salud colectiva que se brindan en los diferentes niveles de atención | J27: =IFERROR(VLOOKUP($I27,Obj!$D$132:$E$147,2,FALSE),"") -> Obj4.1 | K27: Mejorada la cobertura y calidad en materia de salud sexual-reproductiva en todos los niveles de atención con énfasis en la atención materno-perinatal, infantil y adolescente | L27: 4.1.3.2 Provisión de servicios Salud Materno, Neonatal y Adolescente
B28: Calidad de la Atención Clínica | C28: =IF(Tabla3[[#This Row],[Línea estratégica]]="","",#REF!) -> #REF! | D28: =IF(Tabla3[[#This Row],[Línea estratégica]]="","",#REF!) -> #REF! | E28: =IF(Tabla3[[#This Row],[Línea estratégica]]="","",#REF!) -> #REF! | F28: =IF(Tabla3[[#This Row],[Línea estratégica]]="","",#REF!) -> #REF! | G28: Le.3 - Desarrollo de la red asistencial del SNS en coherencia con las políticas de Estado en materia de salud y el Modelo de Atención | H28: =IFERROR(VLOOKUP(Tabla3[[#This Row],[Línea estratégica]],Obj!$B$57:$C$90,2,FALSE),"") -> Le.3 | I28: Obj3.1 - Implementar el Modelo de Atención en todos los niveles de la red de servicios de salud | J28: =IFERROR(VLOOKUP($I28,Obj!$D$132:$E$147,2,FALSE),"") -> Obj3.1 | K28: Red de Atención Primaria articulada, coordinada y fortalecida Atención Materno Infantil de calidad y estructurada Atención a la urgencia y emergencia cumpliendo criterios de calidad y coordinación Fortalecido el modelo de referencia y contrareferencia Acceso universal a medicamentos en la Red de Primer Nivel de atención Disponibilidad oportuna de sangre en condiciones de calidad Gobernanza fortalecida | L28: 3.1.1.1Mejora de la provisión de medicamentos e insumos
B29: Calidad de la Atención Clínica | C29: =IF(Tabla3[[#This Row],[Línea estratégica]]="","",#REF!) -> #REF! | D29: =IF(Tabla3[[#This Row],[Línea estratégica]]="","",#REF!) -> #REF! | E29: =IF(Tabla3[[#This Row],[Línea estratégica]]="","",#REF!) -> #REF! | F29: =IF(Tabla3[[#This Row],[Línea estratégica]]="","",#REF!) -> #REF! | G29: Le.3 - Desarrollo de la red asistencial del SNS en coherencia con las políticas de Estado en materia de salud y el Modelo de Atención | H29: =IFERROR(VLOOKUP(Tabla3[[#This Row],[Línea estratégica]],Obj!$B$57:$C$90,2,FALSE),"") -> Le.3 | I29: Obj3.3 - Desarrollar una cartera de servicios estandarizada y de acuerdo al modelo de atención en los centros de salud, con igual capacidad resolutiva | J29: =IFERROR(VLOOKUP($I29,Obj!$D$132:$E$147,2,FALSE),"") -> Obj3.3 | K29: Fortalecido el acceso a la atención, mediante una cartera de servicios que responda a las necesidades de salud de la población, priorizando los grupos más vulnerables | L29: 3.3.1.2 Provisión de servicios de salud bucal individual y colectiva
B30: Calidad de la Atención Clínica | C30: =IF(Tabla3[[#This Row],[Línea estratégica]]="","",#REF!) -> #REF! | D30: =IF(Tabla3[[#This Row],[Línea estratégica]]="","",#REF!) -> #REF! | E30: =IF(Tabla3[[#This Row],[Línea estratégica]]="","",#REF!) -> #REF! | F30: =IF(Tabla3[[#This Row],[Línea estratégica]]="","",#REF!) -> #REF! | G30: Le.3 - Desarrollo de la red asistencial del SNS en coherencia con las políticas de Estado en materia de salud y el Modelo de Atención | H30: =IFERROR(VLOOKUP(Tabla3[[#This Row],[Línea estratégica]],Obj!$B$57:$C$90,2,FALSE),"") -> Le.3 | I30: Obj3.3 - Desarrollar una cartera de servicios estandarizada y de acuerdo al modelo de atención en los centros de salud, con igual capacidad resolutiva | J30: =IFERROR(VLOOKUP($I30,Obj!$D$132:$E$147,2,FALSE),"") -> Obj3.3 | K30: Fortalecido el acceso a la atención, mediante una cartera de servicios que responda a las necesidades de salud de la población, priorizando los grupos más vulnerables | L30: 3.3.1.3 Provisión de servicios de prevención de cáncer cérvico uterino
B31: Calidad de la Atención Clínica | C31: =IF(Tabla3[[#This Row],[Línea estratégica]]="","",#REF!) -> #REF! | D31: =IF(Tabla3[[#This Row],[Línea estratégica]]="","",#REF!) -> #REF! | E31: =IF(Tabla3[[#This Row],[Línea estratégica]]="","",#REF!) -> #REF! | F31: =IF(Tabla3[[#This Row],[Línea estratégica]]="","",#REF!) -> #REF! | G31: Le.3 - Desarrollo de la red asistencial del SNS en coherencia con las políticas de Estado en materia de salud y el Modelo de Atención | H31: =IFERROR(VLOOKUP(Tabla3[[#This Row],[Línea estratégica]],Obj!$B$57:$C$90,2,FALSE),"") -> Le.3 | I31: Obj3.3 - Desarrollar una cartera de servicios estandarizada y de acuerdo al modelo de atención en los centros de salud, con igual capacidad resolutiva | J31: =IFERROR(VLOOKUP($I31,Obj!$D$132:$E$147,2,FALSE),"") -> Obj3.3 | K31: Fortalecido el acceso a la atención, mediante una cartera de servicios que responda a las necesidades de salud de la población, priorizando los grupos más vulnerables | L31: 3.3.1.4 Plan Operativo Anual y presupuesto 2020 del SRS coherente con los objetivos del Modelo de Atención.
... B57: Automatización Tecnológica | C57: =IF(Tabla3[[#This Row],[Línea estratégica]]="","",#REF!) -> #REF! | D57: =IF(Tabla3[[#This Row],[Línea estratégica]]="","",#REF!) -> #REF! | E57: =IF(Tabla3[[#This Row],[Línea estratégica]]="","",#REF!) -> #REF! | F57: =IF(Tabla3[[#This Row],[Línea estratégica]]="","",#REF!) -> #REF! | G57: Le.1 - Fortalecer las capacidades gestoras institucionales del SNS a través de la implementación del Modelo de Gestión, del desarrollo de su organización funcional y de las capacidades e instrumentos necesarios en cada ámbito de gestión | H57: =IFERROR(VLOOKUP(Tabla3[[#This Row],[Línea estratégica]],Obj!$B$57:$C$90,2,FALSE),"") -> Le.1 | I57: Obj1.6 - Fortalecer los sistemas de información existentes en todos los niveles del SNS para apoyar la gestión para resultados | J57: =IFERROR(VLOOKUP($I57,Obj!$D$132:$E$147,2,FALSE),"") -> Obj1.6 | K57: Sistemas de información digitales estandarizados, que permita el flujo de información entre niveles y facilite la toma de decisiones desarrollados e implementados | L57: 1.6.4.2 Programa de Gestion Cita
B58: Fortalecimiento de la Veeduría y participación social | C58: =IF(Tabla3[[#This Row],[Línea estratégica]]="","",#REF!) -> #REF! | D58: =IF(Tabla3[[#This Row],[Línea estratégica]]="","",#REF!) -> #REF! | E58: =IF(Tabla3[[#This Row],[Línea estratégica]]="","",#REF!) -> #REF! | F58: =IF(Tabla3[[#This Row],[Línea estratégica]]="","",#REF!) -> #REF! | G58: Le.1 - Fortalecer las capacidades gestoras institucionales del SNS a través de la implementación del Modelo de Gestión, del desarrollo de su organización funcional y de las capacidades e instrumentos necesarios en cada ámbito de gestión | H58: =IFERROR(VLOOKUP(Tabla3[[#This Row],[Línea estratégica]],Obj!$B$57:$C$90,2,FALSE),"") -> Le.1 | I58: Obj1.2 - Actualizar e implementar el Modelo de Gestión del SNS en todos sus niveles y el Modelo de Red de los SRS | J58: =+J57 -> Obj1.6 | K58: Promovida la gestión eficiente, que facilite la comunicación, coordinación y control de la red del SNS | L58: 1.2.2.1Implementación de los Comités de Veeduría
B59: Calidad de la Atención Clínica | C59: =IF(Tabla3[[#This Row],[Línea estratégica]]="","",#REF!) -> #REF! | D59: =IF(Tabla3[[#This Row],[Línea estratégica]]="","",#REF!) -> #REF! | E59: =IF(Tabla3[[#This Row],[Línea estratégica]]="","",#REF!) -> #REF! | F59: =IF(Tabla3[[#This Row],[Línea estratégica]]="","",#REF!) -> #REF! | G59: Le.3 - Desarrollo de la red asistencial del SNS en coherencia con las políticas de Estado en materia de salud y el Modelo de Atención | H59: =IFERROR(VLOOKUP(Tabla3[[#This Row],[Línea estratégica]],Obj!$B$57:$C$90,2,FALSE),"") -> Le.3 | I59: Obj3.1 - Implementar el Modelo de Atención en todos los niveles de la red de servicios de salud | J59: =IFERROR(VLOOKUP($I59,Obj!$D$132:$E$147,2,FALSE),"") -> Obj3.1 | K59: Red de Atención Primaria articulada, coordinada y fortalecida Atención Materno Infantil de calidad y estructurada Atención a la urgencia y emergencia cumpliendo criterios de calidad y coordinación Fortalecido el modelo de referencia y contrareferencia Acceso universal a medicamentos en la Red de Primer Nivel de atención Disponibilidad oportuna de sangre en condiciones de calidad Gobernanza fortalecida | L59: 3.1.1.9 Fortalecimientos de los Servicios Materno Infantil y Neonatal
B60: Calidad de la Atención Clínica | C60: =IF(Tabla3[[#This Row],[Línea estratégica]]="","",#REF!) -> #REF! | D60: =IF(Tabla3[[#This Row],[Línea estratégica]]="","",#REF!) -> #REF! | E60: =IF(Tabla3[[#This Row],[Línea estratégica]]="","",#REF!) -> #REF! | F60: =IF(Tabla3[[#This Row],[Línea estratégica]]="","",#REF!) -> #REF! | G60: Le.1 - Fortalecer las capacidades gestoras institucionales del SNS a través de la implementación del Modelo de Gestión, del desarrollo de su organización funcional y de las capacidades e instrumentos necesarios en cada ámbito de gestión | H60: =IFERROR(VLOOKUP(Tabla3[[#This Row],[Línea estratégica]],Obj!$B$57:$C$90,2,FALSE),"") -> Le.1 | I60: Obj1.10 - Fortalecer el sistema de monitoreo y evaluación, para la toma de decisiones basado en información de calidad y acorde a los objetivos propuestos. | J60: =IFERROR(VLOOKUP($I60,Obj!$D$132:$E$147,2,FALSE),"") -> Obj1.10 | K60: Definidos y estandarizados los mecanismos, instrumentos de medición y reporte de los planes y programas. | L60: 1.10.1.1Sistema de Salud Ambiental Hospitalaria (SAH)
B61: Calidad de la Atención Clínica | C61: =IF(Tabla3[[#This Row],[Línea estratégica]]="","",#REF!) -> #REF! | D61: =IF(Tabla3[[#This Row],[Línea estratégica]]="","",#REF!) -> #REF! | E61: =IF(Tabla3[[#This Row],[Línea estratégica]]="","",#REF!) -> #REF! | F61: =IF(Tabla3[[#This Row],[Línea estratégica]]="","",#REF!) -> #REF! | G61: Le.4 - Mejora de la provisión de los programas y acciones de salud colectiva, con enfoque en prevención y control de enfermedades evitables | H61: =IFERROR(VLOOKUP(Tabla3[[#This Row],[Línea estratégica]],Obj!$B$57:$C$90,2,FALSE),"") -> Le.4 | I61: Obj4.1 - Fortalecer y garantizar la provisión de servicios de los programas de salud colectiva que se brindan en los diferentes niveles de atención | J61: =IFERROR(VLOOKUP($I61,Obj!$D$132:$E$147,2,FALSE),"") -> Obj4.1 | K61: Mejorada la prestación de servicios a la población con TB mediante un abordaje integral y basado en la estrategia mundial “Fin de la Tuberculosis”, intensificando las intervenciones focalizadas en poblaciones clave y grupos de riesgo | L61: 4.1.4.2 Conformación de los Comites de Salud Hospitalarios
B62: Desarrollo y Gestión de la Red de Servicios | C62: =IF(Tabla3[[#This Row],[Línea estratégica]]="","",#REF!) -> #REF! | D62: =IF(Tabla3[[#This Row],[Línea estratégica]]="","",#REF!) -> #REF! | E62: =IF(Tabla3[[#This Row],[Línea estratégica]]="","",#REF!) -> #REF! | F62: =IF(Tabla3[[#This Row],[Línea estratégica]]="","",#REF!) -> #REF! | G62: Le.3 - Desarrollo de la red asistencial del SNS en coherencia con las políticas de Estado en materia de salud y el Modelo de Atención | H62: =IFERROR(VLOOKUP(Tabla3[[#This Row],[Línea estratégica]],Obj!$B$57:$C$90,2,FALSE),"") -> Le.3 | I62: Obj3.1 - Implementar el Modelo de Atención en todos los niveles de la red de servicios de salud | J62: =IFERROR(VLOOKUP($I62,Obj!$D$132:$E$147,2,FALSE),"") -> Obj3.1 | K62: Red de Atención Primaria articulada, coordinada y fortalecida Atención Materno Infantil de calidad y estructurada Atención a la urgencia y emergencia cumpliendo criterios de calidad y coordinación Fortalecido el modelo de referencia y contrareferencia Acceso universal a medicamentos en la Red de Primer Nivel de atención Disponibilidad oportuna de sangre en condiciones de calidad Gobernanza fortalecida | L62: 3.1.1.10 Fortalecimiento de la Red de Emergencias de forma humanizada, eficiente y de calidad
B63: Desarrollo y Gestión de la Red de Servicios | C63: =IF(Tabla3[[#This Row],[Línea estratégica]]="","",#REF!) -> #REF! | D63: =IF(Tabla3[[#This Row],[Línea estratégica]]="","",#REF!) -> #REF! | E63: =IF(Tabla3[[#This Row],[Línea estratégica]]="","",#REF!) -> #REF! | F63: =IF(Tabla3[[#This Row],[Línea estratégica]]="","",#REF!) -> #REF! | G63: Le.3 - Desarrollo de la red asistencial del SNS en coherencia con las políticas de Estado en materia de salud y el Modelo de Atención | H63: =IFERROR(VLOOKUP(Tabla3[[#This Row],[Línea estratégica]],Obj!$B$57:$C$90,2,FALSE),"") -> Le.3 | I63: Obj3.1 - Implementar el Modelo de Atención en todos los niveles de la red de servicios de salud | J63: =IFERROR(VLOOKUP($I63,Obj!$D$132:$E$147,2,FALSE),"") -> Obj3.1 | K63: Red de Atención Primaria articulada, coordinada y fortalecida Atención Materno Infantil de calidad y estructurada Atención a la urgencia y emergencia cumpliendo criterios de calidad y coordinación Fortalecido el modelo de referencia y contrareferencia Acceso universal a medicamentos en la Red de Primer Nivel de atención Disponibilidad oportuna de sangre en condiciones de calidad Gobernanza fortalecida | L63: 3.1.1.11 Desarrollo, Gestión y coordinación de traslados de pacientes en las redes de servicios de emergencias.
B64: Desarrollo y Gestión de la Red de Servicios | C64: =IF(Tabla3[[#This Row],[Línea estratégica]]="","",#REF!) -> #REF! | D64: =IF(Tabla3[[#This Row],[Línea estratégica]]="","",#REF!) -> #REF! | E64: =IF(Tabla3[[#This Row],[Línea estratégica]]="","",#REF!) -> #REF! | F64: =IF(Tabla3[[#This Row],[Línea estratégica]]="","",#REF!) -> #REF! | G64: Le.3 - Desarrollo de la red asistencial del SNS en coherencia con las políticas de Estado en materia de salud y el Modelo de Atención | H64: =IFERROR(VLOOKUP(Tabla3[[#This Row],[Línea estratégica]],Obj!$B$57:$C$90,2,FALSE),"") -> Le.3 | I64: Obj3.3 - Desarrollar una cartera de servicios estandarizada y de acuerdo al modelo de atención en los centros de salud, con igual capacidad resolutiva | J64: =IFERROR(VLOOKUP($I64,Obj!$D$132:$E$147,2,FALSE),"") -> Obj3.3 | K64: Fortalecido el acceso a la atención, mediante una cartera de servicios que responda a las necesidades de salud de la población, priorizando los grupos más vulnerables | L64: 3.3.1.7 Preparación y Respuesta a Emergencias de Salud Publica y Desastres
B65: Transparencia Institucional | C65: =IF(Tabla3[[#This Row],[Línea estratégica]]="","",#REF!) -> #REF! | D65: =IF(Tabla3[[#This Row],[Línea estratégica]]="","",#REF!) -> #REF! | E65: =IF(Tabla3[[#This Row],[Línea estratégica]]="","",#REF!) -> #REF! | F65: =IF(Tabla3[[#This Row],[Línea estratégica]]="","",#REF!) -> #REF! | G65: Le.1 - Fortalecer las capacidades gestoras institucionales del SNS a través de la implementación del Modelo de Gestión, del desarrollo de su organización funcional y de las capacidades e instrumentos necesarios en cada ámbito de gestión | H65: =IFERROR(VLOOKUP(Tabla3[[#This Row],[Línea estratégica]],Obj!$B$57:$C$90,2,FALSE),"") -> Le.1 | I65: Obj1.1 - Definir e implementar un modelo organizativo funcional en el Nivel Central del SNS | J65: =+J59 -> Obj3.1 | K65: Red de Atención Primaria articulada, coordinada y fortalecida Atención Materno Infantil de calidad y estructurada Atención a la urgencia y emergencia cumpliendo criterios de calidad y coordinación Fortalecido el modelo de referencia y contrareferencia Acceso universal a medicamentos en la Red de Primer Nivel de atención Disponibilidad oportuna de sangre en condiciones de calidad Gobernanza fortalecida | L65: 1.1.2.3 Estandarización de los Sub-portales de Trasparencia de la Red SNS
B66: Transparencia Institucional | C66: =IF(Tabla3[[#This Row],[Línea estratégica]]="","",#REF!) -> #REF! | D66: =IF(Tabla3[[#This Row],[Línea estratégica]]="","",#REF!) -> #REF! | E66: =IF(Tabla3[[#This Row],[Línea estratégica]]="","",#REF!) -> #REF! | F66: =IF(Tabla3[[#This Row],[Línea estratégica]]="","",#REF!) -> #REF! | G66: Le.1 - Fortalecer las capacidades gestoras institucionales del SNS a través de la implementación del Modelo de Gestión, del desarrollo de su organización funcional y de las capacidades e instrumentos necesarios en cada ámbito de gestión | H66: =IFERROR(VLOOKUP(Tabla3[[#This Row],[Línea estratégica]],Obj!$B$57:$C$90,2,FALSE),"") -> Le.1 | I66: Obj1.1 - Definir e implementar un modelo organizativo funcional en el Nivel Central del SNS | J66: =+J60 -> Obj1.10 | K66: Monitoreados los objetivos propuestos y definidos los alcances de cumplimiento. | L66: 1.1.2.4 Conformación Comisiones de Ética
B67: Calidad de la Atención Clínica | C67: =IF(Tabla3[[#This Row],[Línea estratégica]]="","",#REF!) -> #REF! | D67: =IF(Tabla3[[#This Row],[Línea estratégica]]="","",#REF!) -> #REF! | E67: =IF(Tabla3[[#This Row],[Línea estratégica]]="","",#REF!) -> #REF! | F67: =IF(Tabla3[[#This Row],[Línea estratégica]]="","",#REF!) -> #REF! | G67: Le.1 - Fortalecer las capacidades gestoras institucionales del SNS a través de la implementación del Modelo de Gestión, del desarrollo de su organización funcional y de las capacidades e instrumentos necesarios en cada ámbito de gestión | H67: =IFERROR(VLOOKUP(Tabla3[[#This Row],[Línea estratégica]],Obj!$B$57:$C$90,2,FALSE),"") -> Le.1 | I67: Obj1.2 - Actualizar e implementar el Modelo de Gestión del SNS en todos sus niveles y el Modelo de Red de los SRS | J67: =+J61 -> Obj4.1 | K67: Garantizado el continuo de la atención para aumentar las expectativas de vida en personas que viven con VIH-SIDA mediante la correcta aplicación de las normas, guías y protocolos nacionales | L67: 1.2.2.2 Despliegue de los instrumentos de Gestión Clínica
B68: Calidad de la Atención Clínica | C68: =IF(Tabla3[[#This Row],[Línea estratégica]]="","",#REF!) -> #REF! | D68: =IF(Tabla3[[#This Row],[Línea estratégica]]="","",#REF!) -> #REF! | E68: =IF(Tabla3[[#This Row],[Línea estratégica]]="","",#REF!) -> #REF! | F68: =IF(Tabla3[[#This Row],[Línea estratégica]]="","",#REF!) -> #REF! | G68: Le.4 - Mejora de la provisión de los programas y acciones de salud colectiva, con enfoque en prevención y control de enfermedades evitables | H68: =IFERROR(VLOOKUP(Tabla3[[#This Row],[Línea estratégica]],Obj!$B$57:$C$90,2,FALSE),"") -> Le.4 | I68: Obj4.1 - Fortalecer y garantizar la provisión de servicios de los programas de salud colectiva que se brindan en los diferentes niveles de atención | J68: =+J62 -> Obj3.1 | L68: 4.1.4.3 Deteccion, Diagnostico y Tratamiento (DDT) en los Servicios, para el fin de la TB 2035
...

Sheet Formulario PPGR2
H2: ='Formulario PPGR1'!H2 -> Servicio Nacional de Salud
H3: ='Formulario PPGR1'!H3 -> Dirección de Planificación y Desarrollo | AA3: =IF('Formulario PPGR1'!$N$3="SNS - Dirección Central","ls_Departamento","Ls_DepartamentosSRS") -> Ls_DepartamentosSRS
H5: Identificación de actividades
H6: ='Formulario PPGR1'!$N$3 -> R6 - SRS El Valle
B8: ID_Dependendencia | C8: POA | D8: SRS | E8: AREA | F8: TIPO | G8: Productos | H8: Código | I8: Actividades Programables Presupuestables | J8: Ene | K8: Feb | L8: Mar | M8: Abr | N8: May | O8: Jun | P8: Jul | Q8: Ago | R8: Sep | S8: Oct | T8: Nov | U8: Dic | V8: Total de Acciones | W8: Medio de Verificación 1 | X8: Medio de Verificación 2 | Y8: Medio de Verificación 3 | Z8: Observaciones | AA8: Responsable
B9: =IF(Tabla2[[#This Row],[Productos ]]="","",CONCATENATE(Tabla2[[#This Row],[POA]],".",Tabla2[[#This Row],[SRS]],".",Tabla2[[#This Row],[AREA]],".",Tabla2[[#This Row],[TIPO]])) -> #REF! | C9: =IF(Tabla2[[#This Row],[Productos ]]="","",'Formulario PPGR1'!#REF!) -> #REF! | D9: =IF(Tabla2[[#This Row],[Productos ]]="","",'Formulario PPGR1'!#REF!) -> #REF! | E9: =IF(Tabla2[[#This Row],[Productos ]]="","",'Formulario PPGR1'!#REF!) -> #REF! | F9: =IF(Tabla2[[#This Row],[Productos ]]="","",'Formulario PPGR1'!#REF!) -> #REF! | G9: 1.3.1.1Implementación de las NOBACI | H9: SRSEV1.3.1.1.01 | I9: Elaboración del Plan de Mejora de las NOBACI | M9: 1 | V9: =SUM(Tabla2[[#This Row],[Ene]:[Dic]]) -> 1 | W9: Plan de mejora NOBACI | AA9: Administrativa-Financiera
B10: =IF(Tabla2[[#This Row],[Productos ]]="","",CONCATENATE(Tabla2[[#This Row],[POA]],".",Tabla2[[#This Row],[SRS]],".",Tabla2[[#This Row],[AREA]],".",Tabla2[[#This Row],[TIPO]])) -> #REF! | C10: =IF(Tabla2[[#This Row],[Productos ]]="","",'Formulario PPGR1'!#REF!) -> #REF! | D10: =IF(Tabla2[[#This Row],[Productos ]]="","",'Formulario PPGR1'!#REF!) -> #REF! | E10: =IF(Tabla2[[#This Row],[Productos ]]="","",'Formulario PPGR1'!#REF!) -> #REF! | F10: =IF(Tabla2[[#This Row],[Productos ]]="","",'Formulario PPGR1'!#REF!) -> #REF! | G10: 1.3.1.1Implementación de las NOBACI | H10: SRSEV1.3.1.1.02 | I10: Seguimiento a la implementación del Plan de Mejora NOBACI | Q10: 1 | T10: 1 | V10: =SUM(Tabla2[[#This Row],[Ene]:[Dic]]) -> 2 | W10: Matriz Resumen de Seguimiento NOBACI | X10: Informe | AA10: Administrativa-Financiera
B11: =IF(Tabla2[[#This Row],[Productos ]]="","",CONCATENATE(Tabla2[[#This Row],[POA]],".",Tabla2[[#This Row],[SRS]],".",Tabla2[[#This Row],[AREA]],".",Tabla2[[#This Row],[TIPO]])) -> #REF! | C11: =IF(Tabla2[[#This Row],[Productos ]]="","",'Formulario PPGR1'!#REF!) -> #REF! | D11: =IF(Tabla2[[#This Row],[Productos ]]="","",'Formulario PPGR1'!#REF!) -> #REF! | E11: =IF(Tabla2[[#This Row],[Productos ]]="","",'Formulario PPGR1'!#REF!) -> #REF! | F11: =IF(Tabla2[[#This Row],[Productos ]]="","",'Formulario PPGR1'!#REF!) -> #REF! | G11: 1.3.2.1Implementación del Sistema de Administración de Bienes | H11: SRSEV1.3.2.1.01 | I11: Actualización trimestral del Inventario SRS/GAS/PN | L11: 1 | O11: 1 | R11: 1 | U11: 1 | V11: =SUM(Tabla2[[#This Row],[Ene]:[Dic]]) -> 4 | W11: Inventario | AA11: Administrativa-Financiera
B12: =IF(Tabla2[[#This Row],[Productos ]]="","",CONCATENATE(Tabla2[[#This Row],[POA]],".",Tabla2[[#This Row],[SRS]],".",Tabla2[[#This Row],[AREA]],".",Tabla2[[#This Row],[TIPO]])) -> #REF! | C12: =IF(Tabla2[[#This Row],[Productos ]]="","",'Formulario PPGR1'!#REF!) -> #REF! | D12: =IF(Tabla2[[#This Row],[Productos ]]="","",'Formulario PPGR1'!#REF!) -> #REF! | E12: =IF(Tabla2[[#This Row],[Productos ]]="","",'Formulario PPGR1'!#REF!) -> #REF! | F12: =IF(Tabla2[[#This Row],[Productos ]]="","",'Formulario PPGR1'!#REF!) -> #REF! | G12: 1.3.2.1Implementación del Sistema de Administración de Bienes | H12: SRSEV1.3.2.1.02 | I12: Reporte y descargo equipo chatarra | T12: 1 | V12: =SUM(Tabla2[[#This Row],[Ene]:[Dic]]) -> 1 | W12: Reporte | AA12: Administrativa-Financiera
B13: =IF(Tabla2[[#This Row],[Productos ]]="","",CONCATENATE(Tabla2[[#This Row],[POA]],".",Tabla2[[#This Row],[SRS]],".",Tabla2[[#This Row],[AREA]],".",Tabla2[[#This Row],[TIPO]])) -> #REF! | C13: =IF(Tabla2[[#This Row],[Productos ]]="","",'Formulario PPGR1'!#REF!) -> #REF! | D13: =IF(Tabla2[[#This Row],[Productos ]]="","",'Formulario PPGR1'!#REF!) -> #REF! | E13: =IF(Tabla2[[#This Row],[Productos ]]="","",'Formulario PPGR1'!#REF!) -> #REF! | F13: =IF(Tabla2[[#This Row],[Productos ]]="","",'Formulario PPGR1'!#REF!) -> #REF! | G13: 1.3.2.1Implementación del Sistema de Administración de Bienes | H13: SRSEV1.3.2.1.03 | I13: Auditoria inventario bienes | U13: 1 | V13: =SUM(Tabla2[[#This Row],[Ene]:[Dic]]) -> 1 | W13: Informe | AA13: Administrativa-Financiera
B14: =IF(Tabla2[[#This Row],[Productos ]]="","",CONCATENATE(Tabla2[[#This Row],[POA]],".",Tabla2[[#This Row],[SRS]],".",Tabla2[[#This Row],[AREA]],".",Tabla2[[#This Row],[TIPO]])) -> #REF! | C14: =IF(Tabla2[[#This Row],[Productos ]]="","",'Formulario PPGR1'!#REF!) -> #REF! | D14: =IF(Tabla2[[#This Row],[Productos ]]="","",'Formulario PPGR1'!#REF!) -> #REF! | E14: =IF(Tabla2[[#This Row],[Productos ]]="","",'Formulario PPGR1'!#REF!) -> #REF! | F14: =IF(Tabla2[[#This Row],[Productos ]]="","",'Formulario PPGR1'!#REF!) -> #REF! | G14: 1.3.1.2 Fortalecimiento de la gestión financiera de la Red | H14: SRSEV1.3.1.2.01 | I14: Seguimiento a los contratos entre las ARS, CEAS y Centros Diagnósticos para incrementar la venta de servicios | M14: 1 | S14: 1 | V14: =SUM(Tabla2[[#This Row],[Ene]:[Dic]]) -> 2 | W14: Informe | AA14: Administrativa-Financiera
B15: =IF(Tabla2[[#This Row],[Productos ]]="","",CONCATENATE(Tabla2[[#This Row],[POA]],".",Tabla2[[#This Row],[SRS]],".",Tabla2[[#This Row],[AREA]],".",Tabla2[[#This Row],[TIPO]])) -> #REF! | C15: =IF(Tabla2[[#This Row],[Productos ]]="","",'Formulario PPGR1'!#REF!) -> #REF! | D15: =IF(Tabla2[[#This Row],[Productos ]]="","",'Formulario PPGR1'!#REF!) -> #REF! | E15: =IF(Tabla2[[#This Row],[Productos ]]="","",'Formulario PPGR1'!#REF!) -> #REF! | F15: =IF(Tabla2[[#This Row],[Productos ]]="","",'Formulario PPGR1'!#REF!) -> #REF! | G15: 1.3.1.2 Fortalecimiento de la gestión financiera de la Red | H15: SRSEV1.3.1.2.02 | I15: Seguimiento y análisis al proceso de facturación por venta de servicios a ARS en los EESS | L15: 1 | O15: 1 | R15: 1 | U15: 1 | V15: =SUM(Tabla2[[#This Row],[Ene]:[Dic]]) -> 4 | W15: Informe | AA15: Administrativa-Financiera
B16: =IF(Tabla2[[#This Row],[Productos ]]="","",CONCATENATE(Tabla2[[#This Row],[POA]],".",Tabla2[[#This Row],[SRS]],".",Tabla2[[#This Row],[AREA]],".",Tabla2[[#This Row],[TIPO]])) -> #REF! | C16: =IF(Tabla2[[#This Row],[Productos ]]="","",'Formulario PPGR1'!#REF!) -> #REF! | D16: =IF(Tabla2[[#This Row],[Productos ]]="","",'Formulario PPGR1'!#REF!) -> #REF! | E16: =IF(Tabla2[[#This Row],[Productos ]]="","",'Formulario PPGR1'!#REF!) -> #REF! | F16: =IF(Tabla2[[#This Row],[Productos ]]="","",'Formulario PPGR1'!#REF!) -> #REF! | G16: 1.3.1.2 Fortalecimiento de la gestión financiera de la Red | H16: SRSEV1.3.1.2.03 | I16: Seguimiento a la implementacion de costeo hospitalario | N16: 1 | T16: 1 | V16: =SUM(Tabla2[[#This Row],[Ene]:[Dic]]) -> 2 | W16: Informe | AA16: Administrativa-Financiera
B17: =IF(Tabla2[[#This Row],[Productos ]]="","",CONCATENATE(Tabla2[[#This Row],[POA]],".",Tabla2[[#This Row],[SRS]],".",Tabla2[[#This Row],[AREA]],".",Tabla2[[#This Row],[TIPO]])) -> #REF! | C17: =IF(Tabla2[[#This Row],[Productos ]]="","",'Formulario PPGR1'!#REF!) -> #REF! | D17: =IF(Tabla2[[#This Row],[Productos ]]="","",'Formulario PPGR1'!#REF!) -> #REF! | E17: =IF(Tabla2[[#This Row],[Productos ]]="","",'Formulario PPGR1'!#REF!) -> #REF! | F17: =IF(Tabla2[[#This Row],[Productos ]]="","",'Formulario PPGR1'!#REF!) -> #REF! | G17: 1.3.1.2 Fortalecimiento de la gestión financiera de la Red | H17: SRSEV1.3.1.2.04 | I17: Elaboracion Estados financieros | J17: 1 | K17: 1 | L17: 1 | M17: 1 | N17: 1 | O17: 1 | P17: 1 | Q17: 1 | R17: 1 | S17: 1 | T17: 1 | U17: 1 | V17: =SUM(Tabla2[[#This Row],[Ene]:[Dic]]) -> 12 | W17: Informe | Y17: Otros | Z17: Estado Financieros | AA17: Administrativa-Financiera
B18: =IF(Tabla2[[#This Row],[Productos ]]="","",CONCATENATE(Tabla2[[#This Row],[POA]],".",Tabla2[[#This Row],[SRS]],".",Tabla2[[#This Row],[AREA]],".",Tabla2[[#This Row],[TIPO]])) -> #REF! | C18: =IF(Tabla2[[#This Row],[Productos ]]="","",'Formulario PPGR1'!#REF!) -> #REF! | D18: =IF(Tabla2[[#This Row],[Productos ]]="","",'Formulario PPGR1'!#REF!) -> #REF! | E18: =IF(Tabla2[[#This Row],[Productos ]]="","",'Formulario PPGR1'!#REF!) -> #REF! | F18: =IF(Tabla2[[#This Row],[Productos ]]="","",'Formulario PPGR1'!#REF!) -> #REF! | G18: 1.3.1.2 Fortalecimiento de la gestión financiera de la Red | H18: SRSEV1.3.1.2.05 | I18: Análisis y seguimiento a las glosas reportadas | L18: 1 | O18: 1 | R18: 1 | U18: 1 | V18: =SUM(Tabla2[[#This Row],[Ene]:[Dic]]) -> 4 | W18: Informe | AA18: Administrativa-Financiera
B19: =IF(Tabla2[[#This Row],[Productos ]]="","",CONCATENATE(Tabla2[[#This Row],[POA]],".",Tabla2[[#This Row],[SRS]],".",Tabla2[[#This Row],[AREA]],".",Tabla2[[#This Row],[TIPO]])) -> #REF! | C19: =IF(Tabla2[[#This Row],[Productos ]]="","",'Formulario PPGR1'!#REF!) -> #REF! | D19: =IF(Tabla2[[#This Row],[Productos ]]="","",'Formulario PPGR1'!#REF!) -> #REF! | E19: =IF(Tabla2[[#This Row],[Productos ]]="","",'Formulario PPGR1'!#REF!) -> #REF! | F19: =IF(Tabla2[[#This Row],[Productos ]]="","",'Formulario PPGR1'!#REF!) -> #REF! | G19: 1.1.3.1 Fortalecimiento de la Planificación Institucional | H19: SRSEV1.1.3.1.01 | I19: Elaboración del PACC 2021 | O19: 1 | V19: =SUM(Tabla2[[#This Row],[Ene]:[Dic]]) -> 1 | W19: Plan | AA19: Administrativa-Financiera
B20: =IF(Tabla2[[#This Row],[Productos ]]="","",CONCATENATE(Tabla2[[#This Row],[POA]],".",Tabla2[[#This Row],[SRS]],".",Tabla2[[#This Row],[AREA]],".",Tabla2[[#This Row],[TIPO]])) -> #REF! | C20: =IF(Tabla2[[#This Row],[Productos ]]="","",'Formulario PPGR1'!#REF!) -> #REF! | D20: =IF(Tabla2[[#This Row],[Productos ]]="","",'Formulario PPGR1'!#REF!) -> #REF! | E20: =IF(Tabla2[[#This Row],[Productos ]]="","",'Formulario PPGR1'!#REF!) -> #REF! | F20: =IF(Tabla2[[#This Row],[Productos ]]="","",'Formulario PPGR1'!#REF!) -> #REF! | G20: 3.1.1.2 Despliegue Ruta Critica para el desarrollo del Modelo de Atención | H20: SRSEV 3.1.1.2.01 | I20: Inducción a los Médicos Pasantes de Ley en el Modelo de Atención e Instrumentos de Reportes | L20: 1 | O20: 1 | R20: 1 | T20: 1 | V20: =SUM(Tabla2[[#This Row],[Ene]:[Dic]]) -> 4 | W20: Listado de participación | X20: Agenda | AA20: Primer Nivel de Atención
